{"text_format":"1","workbook":"xlsx","n_sheets":5,"sheets":["入力フォーム","変更申込書（金融機関等用）","変更申込書（勤務先用）","変更申込書（加入者控）","リスト"],"not_rendered":{"charts":0,"images":0,"macros":1,"external_links":0,"defined_names":3,"comments":1,"pivot_tables":0},"unopened":[],"bounds":{"document_bytes":16777216,"sheet_cells":100000,"rows_first":2000,"rows_last":500,"rows_between":2000,"halvings":0,"cell_chars":16384,"cell_head_chars":4096},"cells_cut":0,"cells_raw":0,"read":"whole","date_system":"1900"}

{"sheet":"入力フォーム","index":0,"n_rows":123,"n_cols":26,"rows_kept":123,"cut":false,"hidden":false,"merged":[[122,0,125,27],[63,9,63,10],[68,11,68,15],[69,11,69,15],[71,11,71,15],[119,0,121,27],[116,8,116,25],[107,9,107,25],[108,9,108,25],[117,6,117,24],[92,0,92,27],[100,3,100,9],[110,8,110,12],[111,8,111,12],[103,11,103,15],[25,0,25,9],[34,7,34,24],[12,3,12,7],[14,3,14,6],[16,3,16,25],[18,3,18,25],[20,3,20,9],[27,7,27,11],[28,7,28,11],[30,16,30,20],[0,0,0,27],[1,0,1,27],[2,0,2,9],[8,3,8,11],[10,3,10,7],[43,4,43,12],[30,8,30,12],[32,7,32,11],[36,7,36,13],[93,0,93,9],[72,11,72,15],[61,9,61,10],[45,4,45,12],[62,9,62,10]]}
["財産形成（年金・住宅）貯蓄変更申込書"]
["　　　　　　　　○にはチェックを、□内には直接入力又は選択して入力し、内容を確認の上、最下部の印刷ボタンを押下してください。"]
["１～９　全員入力必須",null,null,null,null,null,null,null,null,null,"※変更がある場合、変更後のものを入力する"]
[null,null,1,"財産形成貯蓄の種類"]
[null,null,null,0]
[]
[]
[null,null,2,"取扱金融機関等"]
[]
[null,null,3,"勤務先（給与支給庁（本庁）を選択）"]
[]
[null,null,4,"生年月日"]
[]
[null,null,5,"郵便番号"]
[]
[null,null,6,"住所（漢字）"]
[]
[null,null,7,"住所（ふりがな）"]
[]
[null,null,8,"電話番号"]
[]
[null,null,9,"男女別",null,null,null,null,null,null,null,null,null,null,null,null,null,null,null,null,"※10以降、選択する必要がないのにチェックを入れてしまった"]
[null,null,null,0,null,null,null,null,null,null,null,null,null,null,null,null,null,null,null,null,"　場合は以下の方法で解除してください。"]
[null,null,null,null,null,null,null,null,null,null,null,null,null,null,null,null,null,null,null,null,"解除方法⇒"]
[]
["１０～　該当事項のみ要入力"]
[null,null,10,"変更事項A",null,"※変更前のものを入力する"]
[null,null,null,0]
[null,null,null,null,"勤務先異動日"]
[]
[null,null,null,0,null,null,"変更前",null,null,null,null,null,null,"店","変更後",null,null,null,null,null,null,"店"]
[]
[null,null,null,0]
[]
[null,null,null,0]
[]
[null,null,null,null,"（電話番号）"]
[]
[null,null,11,"印鑑変更"]
[null,null,null,0,null,null,"※押印欄には旧印鑑を押印してください。"]
[]
[null,null,12,"変更事項B"]
[null,null,null,"12-1","貯蓄の種類（種別）",null,null,null,null,"※変更事項Bを変更した場合は入力する"]
[]
[null,null,null,"12-2","該当する号数　※年金・住宅のみ"]
[]
[null,null,null,"12-3","変更事項"]
[null,null,null,null,0,null,null,null,null,null,"変更前",null,"百万",null,null,"千",null,null,"円"]
[]
[null,null,null,null,null,null,null,null,null,null,"変更後",null,"百万",null,null,"千",null,null,"円"]
[]
[]
[null,null,null,null,0,null,null,null,null,"変更前",null,null,null,null,null,"千円"]
[null,null,null,null,null,null,null,null,null,"変更後",null,null,null,null,null,"千円",null,"変更時期",null,"令和",null,"年",null,"月分から"]
[]
[null,null,null,null,0,null,null,null,null,"変更前",null,null,null,null,null,"千円"]
[null,null,null,null,null,null,null,null,null,"変更後",null,null,null,null,null,"千円"]
[null,null,null,null,null,null,null,null,null,null,null,null,null,null,null,null,null,"変更時期",null,"令和",null,"年",null,"月分から"]
[null,null,null,null,0,null,null,null,null,"変更前",null,null,null,null,null,"千円"]
[null,null,null,null,null,null,null,null,null,"変更後",null,null,null,null,null,"千円"]
[]
[null,null,null,null,0,null,null,null,null,"俸　給",null,0,null,null,null,null,"令和",null,"年",null,"月分から"]
[]
[null,null,null,null,null,null,null,null,null,"期末手当",null,0,null,null,null,null,"令和",null,"年",null,"月分から"]
[]
[null,null,null,null,0,null,null,null,null,"変更前",null,null,"年"]
[null,null,null,null,null,null,null,null,null,"変更後",null,null,"年"]
[]
[null,null,null,null,0,null,null,null,null,"変更前"]
[null,null,null,null,null,null,null,null,null,"変更後"]
[]
[null,null,null,null,0,null,null,null,null,"変更前"]
[null,null,null,null,null,null,null,null,null,"変更後"]
[]
[null,null,null,null,0,null,null,null,null,"変更前",null,null,"年間（",null,null,"回）"]
[null,null,null,null,null,null,null,null,null,"変更後",null,null,"年間（",null,null,"回）"]
[]
[null,null,null,null,0]
[null,null,null,null,null,null,null,null,null,"変更前",null,"令和",null,"年",null,"月から",null,null,"年",null,null,null,null,"年",null,"月間"]
[null,null,null,null,null,null,null,null,null,"変更後",null,"令和",null,"年",null,"月から",null,null,"年",null,"月まで",null,null,"年",null,"月間"]
[]
[null,null,null,null,null,null,null,null,null,"変更前",null,0]
[null,null,null,null,null,null,null,null,null,null,null,"（生命保険）"]
[null,null,null,null,null,null,null,null,null,null,null,null,null,"（",null,"年）",null,null,"（",null,null,null,"）"]
[]
[null,null,null,null,null,null,null,null,null,"変更後",null,0]
[null,null,null,null,null,null,null,null,null,null,null,"（生命保険）"]
[null,null,null,null,null,null,null,null,null,null,null,null,null,"（",null,"年）",null,null,"（",null,null,null,"）"]
[]
[null,null,null,null,0,null,null,null,null,"変更前",null,null,"年",null,"回"]
[null,null,null,null,null,null,null,null,null,"変更後",null,null,"年",null,"回"]
[]
["財産形成非課税（年金・住宅）貯蓄（限度額変更・異動・勤務先異動）申告書"]
["１３～１５　年金・住宅のみ",null,null,null,null,null,null,null,null,null,"※年金・住宅の場合で、「勤務先」、「氏名」、「住所」又は「最高限度額」のいずれかを変更する場合入力する"]
[null,null,13,"種別"]
[null,null,null,0]
[null,null,null,1]
[null,null,null,1]
[null,null,null,1]
[null,null,14,"個人番号（マイナンバー）"]
[]
[null,null,15,"異動の生じた日等"]
[null,null,null,"15-1","氏名",null,"異動の生じた日",null,null,null,"令和",null,"年",null,"月",null,"日"]
[null,null,null,null,null,null,"変更後の氏名"]
[]
[null,null,null,"15-2","店舗",null,"異動の生じた日",null,null,null,"令和",null,"年",null,"月",null,"日"]
[null,null,null,null,null,null,"営業所等の所在地"]
[null,null,null,null,null,null,null,"移管前"]
[null,null,null,null,null,null,null,"移管後"]
[]
[null,null,null,"15-2","個人番号",null,"変更前"]
[null,null,null,"(マイナンバー)",null,null,"変更後"]
[null,null,null,null,null,null,"異動の生じた日",null,null,null,"令和",null,"年",null,"月",null,"日"]
[]
[null,null,null,"15-3","住所",null,"異動の生じた日",null,null,null,"令和",null,"年",null,"月",null,"日"]
[null,null,null,"15-4","勤務先",null,"異動の生じた日",null,null,null,"令和",null,"年",null,"月",null,"日"]
[]
[null,null,null,null,null,null,"印刷前にプレビュー画面は表示しませんので、右シート等から記載内容をご確認ください。"]
[]
[]
[]
[]
["印刷後、氏名の自署及び押印を忘れずにしてください。"]

{"sheet":"変更申込書（金融機関等用）","index":1,"n_rows":79,"n_cols":55,"rows_kept":79,"cut":false,"hidden":false,"merged":[[45,1,46,1],[45,6,45,9],[46,6,46,9],[70,6,70,8],[72,6,72,8],[64,27,64,28],[63,25,63,26],[68,6,68,8],[69,6,69,8],[54,1,54,4],[54,5,54,18],[55,1,56,4],[62,19,62,20],[55,5,56,18],[67,3,67,8],[4,27,4,40],[5,27,5,40],[8,20,9,21],[49,7,50,11],[48,14,51,21],[47,32,47,33],[47,35,47,37],[46,38,46,39],[42,33,42,35],[42,37,42,39],[43,33,43,40],[44,33,44,36],[40,36,40,37],[40,38,40,39],[40,40,40,41],[47,10,47,12],[47,14,47,16],[47,17,47,19],[47,21,47,23],[45,22,45,23],[45,34,45,36],[41,32,41,33],[46,11,46,12],[46,14,46,15],[77,2,78,6],[77,7,77,9],[78,7,78,9],[49,12,50,13],[49,0,50,6],[49,22,50,24],[73,6,73,8],[75,6,75,8],[73,3,75,5],[61,0,75,1],[62,2,64,2],[68,2,69,2],[70,2,72,2],[73,2,75,2],[65,3,65,8],[57,1,58,4],[61,2,61,8],[66,3,66,8],[68,3,69,5],[71,6,71,8],[70,3,72,5],[74,9,74,22],[75,9,75,22],[75,23,75,36],[46,34,46,36],[41,36,41,37],[41,39,41,40],[45,37,45,38],[46,41,46,42],[50,49,50,53],[51,49,54,53],[47,46,47,48],[49,35,52,37],[46,49,46,50],[46,52,46,53],[47,43,47,44],[41,43,41,44],[41,45,41,46],[41,47,41,48],[41,50,41,51],[42,48,42,50],[43,44,43,51],[44,44,44,47],[45,48,45,49],[46,45,46,47],[41,34,41,35],[40,47,40,48],[40,49,40,50],[40,51,40,52],[36,42,37,42],[41,52,41,53],[42,44,42,46],[45,45,45,47],[38,24,39,24],[40,24,41,24],[36,32,37,38],[36,39,37,39],[36,40,37,41],[36,43,37,49],[36,50,37,50],[36,51,37,52],[36,53,37,53],[38,41,39,42],[38,38,39,40],[38,43,39,45],[38,46,39,48],[38,49,39,51],[38,52,39,53],[41,41,41,42],[39,17,39,19],[39,12,39,13],[39,15,39,16],[44,10,44,11],[44,15,44,16],[44,17,44,19],[40,17,41,17],[42,24,46,24],[40,18,41,18],[40,19,41,19],[40,20,41,20],[40,21,41,23],[42,17,43,17],[42,18,43,18],[42,19,43,19],[42,20,43,20],[42,21,43,23],[42,14,43,16],[40,14,41,16],[46,22,46,23],[45,20,45,21],[46,20,46,21],[45,14,45,15],[45,11,45,12],[40,11,41,11],[40,12,41,12],[40,13,41,13],[34,1,35,1],[37,1,44,1],[44,3,44,9],[34,8,36,9],[36,3,36,7],[34,3,35,7],[42,10,43,10],[42,11,43,11],[42,12,43,12],[42,13,43,13],[44,12,44,13],[37,2,38,2],[35,10,36,10],[37,10,38,10],[39,10,39,11],[40,10,41,10],[33,43,33,53],[34,43,35,49],[34,50,35,50],[34,51,35,52],[34,53,35,53],[47,2,47,9],[33,24,33,31],[34,25,35,31],[36,25,37,31],[38,25,39,31],[40,25,41,31],[42,25,46,31],[47,25,47,31],[39,3,39,9],[45,2,46,5],[40,3,41,4],[42,3,43,4],[40,5,41,5],[42,5,43,5],[34,2,35,2],[37,3,38,9],[40,6,41,9],[42,6,43,9],[35,18,36,18],[24,1,29,1],[21,26,22,53],[21,22,22,25],[34,40,35,41],[24,30,24,47],[25,30,26,47],[27,30,28,47],[34,39,35,39],[34,42,35,42],[31,1,32,4],[31,5,31,16],[33,1,33,9],[33,10,33,16],[33,17,33,23],[33,32,33,42],[35,19,36,19],[35,20,36,20],[35,21,36,21],[35,22,36,22],[35,23,36,23],[35,14,36,14],[35,15,36,15],[34,24,35,24],[36,24,37,24],[8,47,9,53],[11,49,11,53],[12,49,15,53],[1,20,3,29],[1,30,3,36],[4,44,6,52],[1,14,1,18],[2,14,2,18],[3,14,3,18],[13,5,14,21],[13,22,13,25],[13,26,13,48],[14,22,15,25],[14,26,15,48],[11,40,12,41],[15,5,16,11],[15,12,16,12],[15,13,16,13],[15,14,16,14],[15,15,16,15],[16,26,16,53],[8,5,9,19],[4,11,4,16],[5,11,5,16],[74,6,74,8],[26,49,29,53],[24,50,24,53],[25,49,25,53],[24,25,24,29],[25,25,25,29],[27,25,27,29],[29,26,29,29],[28,9,28,22],[24,4,24,8],[25,4,25,8],[27,4,27,8],[26,6,26,8],[24,9,24,22],[27,9,27,22],[25,9,26,22],[62,27,62,28],[63,19,63,20],[63,23,63,24],[62,17,62,18],[63,17,63,18],[62,9,62,10],[63,9,63,10],[63,13,63,14],[8,1,9,4],[52,1,53,6],[38,32,39,34],[38,35,39,37],[37,18,38,18],[37,19,38,19],[37,20,38,20],[37,21,38,23],[62,3,64,8],[63,27,63,28],[64,23,64,24],[11,5,12,21],[11,22,12,25],[17,1,18,4],[17,5,18,21],[17,22,20,25],[17,27,17,34],[19,1,20,8],[19,9,20,21],[18,26,20,53],[11,1,12,4],[13,1,16,4],[21,1,22,4],[21,5,22,10],[10,54,24,54],[16,22,16,25],[45,16,45,17],[46,16,46,17],[40,32,40,33],[40,43,40,44],[11,42,12,43],[11,44,12,45],[15,16,16,16],[15,17,16,17],[15,18,16,18],[15,19,16,19],[15,20,16,20],[15,21,16,21],[11,26,12,27],[11,28,12,29],[11,30,12,31],[11,32,12,33],[11,34,12,35],[11,36,12,37],[11,38,12,39],[11,46,12,48],[21,16,22,19],[34,32,35,38],[32,5,32,16],[21,11,22,11],[21,12,22,14],[21,15,22,15],[28,2,28,8],[35,17,36,17],[37,11,38,11],[37,12,38,12],[37,13,38,13],[37,14,38,16],[37,17,38,17],[35,16,36,16],[35,11,36,11],[35,12,36,12],[35,13,36,13],[57,45,57,54],[72,51,72,53],[49,45,54,48],[49,39,49,43],[50,39,50,43],[51,39,51,43],[52,39,52,43],[61,37,64,43],[65,37,65,38],[66,37,66,38],[68,37,68,38],[69,37,69,38],[70,37,70,38],[71,37,71,38],[74,37,74,43],[75,37,75,43],[53,29,53,34],[57,5,58,34],[55,19,56,34],[54,19,54,34],[54,36,58,43],[59,36,59,43],[61,9,61,22],[61,23,61,36],[62,11,62,12],[63,11,63,12],[62,13,62,14],[62,15,62,16],[62,21,62,22],[62,23,62,24],[62,25,62,26],[62,29,62,30],[62,31,62,32],[62,33,62,34],[62,35,62,36],[63,15,63,16],[63,21,63,22],[65,9,65,22],[63,35,63,36],[64,9,64,22],[64,25,64,26],[64,29,64,30],[64,31,64,32],[64,33,64,34],[64,35,64,36],[72,37,72,38],[73,37,73,43],[66,9,66,22],[68,9,68,22],[69,9,69,22],[70,9,70,22],[71,9,71,22],[72,9,72,22],[73,9,73,22],[67,9,67,22],[67,23,67,36],[67,37,67,38],[77,33,78,37],[77,10,77,29],[78,10,78,18],[78,22,78,29],[61,46,62,47],[72,46,72,49],[29,4,29,6],[29,7,29,8],[29,9,29,13],[29,15,29,16],[29,17,29,21],[29,30,29,47],[65,23,65,36],[66,23,66,36],[68,23,68,36],[69,23,69,36],[70,23,70,36],[71,23,71,36],[72,23,72,36],[73,23,73,36],[74,23,74,36],[63,29,63,30],[63,31,63,32],[63,33,63,34]]}
["（国家公務員用）"]
[null,null,null,null,null,null,null,null,null,null,null,null,null,{"$f":"IF(入力フォーム!D5=1,\"☑\",\"□\")","v":"□"},"財  産  形  成",null,null,null,null,null,"貯蓄変更申込書",null,null,null,null,null,null,null,null,null,"（兼印鑑変更届）"]
[null,null,null,null,null,null,null,null,null,null,null,null,null,{"$f":"IF(入力フォーム!D5=2,\"☑\",\"□\")","v":"□"},"財産形成年金"]
[null,null,null,null,null,null,null,null,null,null,null,null,null,{"$f":"IF(入力フォーム!D5=3,\"☑\",\"□\")","v":"□"},"財産形成住宅"]
[null,null,null,null,null,null,null,null,null,null,null,"財産形成非課税年金",null,null,null,null,null,null,null,null,null,null,null,null,null,null,null,"財産形成年金貯蓄につき租特法第４条の３第１項",null,null,null,null,null,null,null,null,null,null,null,null,null,null,null,null,"財産貯蓄非課税限度額を変更する者のみ該当します。"]
[null,null,null,null,null,null,null,null,null,"兼",null,"財産形成非課税住宅",null,null,null,null,null,null,"貯蓄申込書",null,null,null,"下記の金額の",null,null,null,null,"財産形成住宅貯蓄につき租特法第４条の２第１項",null,null,null,null,null,null,null,null,null,null,null,null,null,null,null,"ー"]
[null,null,null,null,null,null,null,null,null,null,null,null,null,null,null,null,null,null,null,null,null,null,"の規定の適用を受けたいので、この旨申告します。"]
[null,null,null,"私は、貴行（社・金庫・組合）との間に締結した財産形成貯蓄、財産形成年金貯蓄又は財産形成住宅貯蓄契約につき、積立終了日までに下記のとおり変更したいので、この旨申し込みます。"]
[null,"取扱金融\n機 関 等",null,null,null,{"$f":"入力フォーム!D9","v":0},null,null,null,null,null,null,null,null,null,null,null,null,null,null,"御中",null,null,null,null,null,null,null,null,null,null,null,null,null,null,null,null,null,null,null,null,null,null,null,null,null,null,{"$f":"TODAY()","v":"2024-08-22"}]
[]
[null,null,null,null,null,null,null,null,null,null,null,null,null,null,null,null,null,null,null,null,null,null,null,null,null,null,null,null,null,null,null,null,null,null,null,null,null,null,null,null,null,null,null,null,null,null,null,null,null,null,null,null,null,null,"改印する場合は新印章を押印してください。"]
[null,"勤  務  先",null,null,null,{"$f":"入力フォーム!D11","v":0},null,null,null,null,null,null,null,null,null,null,null,null,null,null,null,null,"職 員 番 号",null,null,null,null,null,null,null,null,null,null,null,null,null,null,null,null,null,null,null,null,null,null,null,null,null,null,"お届出印"]
[]
[null,"所属部課\n同  番  号",null,null,null,null,null,null,null,null,null,null,null,null,null,null,null,null,null,null,null,null,"ふりがな"]
[null,null,null,null,null,null,null,null,null,null,null,null,null,null,null,null,null,null,null,null,null,null,"氏　    名"]
[]
[null,null,null,null,null,null,null,null,null,null,null,null,null,null,null,null,null,null,null,null,null,null,"ふりがな",null,null,null,{"$f":"入力フォーム!D19","v":0}]
[null,"所  在  地",null,null,null,{"$f":"VLOOKUP(F12,リスト!A2:B82,2,FALSE)","v":{"$error":"#N/A"}},null,null,null,null,null,null,null,null,null,null,null,null,null,null,null,null,"住　    所",null,null,null,"(〒",{"$f":"入力フォーム!D15","v":0},null,null,null,null,null,null,null,")"]
[null,null,null,null,null,null,null,null,null,null,null,null,null,null,null,null,null,null,null,null,null,null,null,null,null,null,{"$f":"入力フォーム!D17","v":0}]
[null,"法人番号\n（年金・住宅貯蓄の場合に記入）",null,null,null,null,null,null,null,{"$f":"IF(OR(N3=\"☑\",N4=\"☑\"),VLOOKUP(F12,リスト!A1:C83,3,FALSE),\"\")","v":""}]
[]
[null,"生年月日",null,null,null,{"$f":"入力フォーム!D13","v":"00:00:00"},null,null,null,null,null,"(満",{"$f":"IF(F22=\"\",\"\",DATEDIF(F22,TODAY(),\"Y\"))","v":124},null,null,"歳)","男女別",null,null,null,"男","女","電 話 番 号",null,null,null,{"$f":"入力フォーム!D21","v":0}]
[null,null,null,null,null,null,null,null,null,null,null,null,null,null,null,null,null,null,null,null,{"$f":"IF(入力フォーム!D23=1,\"☑\",\"□\")","v":"□"},{"$f":"IF(入力フォーム!D23=2,\"☑\",\"□\")","v":"□"}]
[]
[null,"変更事項A","＊",{"$f":"IF(入力フォーム!D28=1,\"☑\",\"□\")","v":"□"},"（旧）勤 務 先",null,null,null,null,{"$f":"IF(入力フォーム!H28=\"\",\"\",入力フォーム!H28)","v":""},null,null,null,null,null,null,null,null,null,null,null,null,null,null,"□","（旧）職員番号",null,null,null,null,null,null,null,null,null,null,null,null,null,null,null,null,null,null,null,null,null,null,null,{"$f":"IF(入力フォーム!D40=1,\"☑\",\"□\")","v":"□"},"印鑑変更"]
[null,null,null,"□","（旧）所属部課",null,null,null,null,null,null,null,null,null,null,null,null,null,null,null,null,null,null,"＊",{"$f":"IF(入力フォーム!D33=1,\"☑\",\"□\")","v":"□"},"（旧）氏　　名",null,null,null,null,{"$f":"IF(入力フォーム!H33=\"\",\"\",入力フォーム!H33)","v":""},null,null,null,null,null,null,null,null,null,null,null,null,null,null,null,null,null,null,"（旧印鑑）"]
[null,null,null,null,null,null,"（同番号）"]
[null,null,"＊",{"$f":"D25","v":"□"},"（旧）所 在 地",null,null,null,null,{"$f":"IF(入力フォーム!H28=\"\",\"\",VLOOKUP(J25,リスト!J2:K86,2,FALSE))","v":""},null,null,null,null,null,null,null,null,null,null,null,null,null,"＊",{"$f":"IF(入力フォーム!D35=1,\"☑\",\"□\")","v":"□"},"（旧）住　　所",null,null,null,null,{"$f":"IF(入力フォーム!H35=\"\",\"\",入力フォーム!H35)","v":""}]
[null,null,"勤務先異動日",null,null,null,null,null,null,{"$f":"IF(入力フォーム!H29=\"\",\"\",入力フォーム!H29)","v":""}]
[null,null,"＊",{"$f":"IF(入力フォーム!D31=1,\"☑\",\"□\")","v":"□"},"店舗",null,null,"変更前",null,{"$f":"IF(入力フォーム!I31=\"\",\"\",入力フォーム!I31)","v":""},null,null,null,null,"店","変更後",null,{"$f":"IF(入力フォーム!Q31=\"\",\"\",入力フォーム!Q31)","v":""},null,null,null,null,"店",null,null,null,"（電話番号）",null,null,null,{"$f":"IF(入力フォーム!H37=\"\",\"\",入力フォーム!H37)","v":""}]
[null,null,null,null,null,null,null,null,null,null,null,null,null,null,null,null,null,null,null,null,null,null,null,null,"財産形成年金貯蓄又は財産形成住宅貯蓄に関する変更の場合で、"]
[null,"貯蓄の種類",null,null,null,{"$f":"IF(入力フォーム!E44=\"\",\"\",入力フォーム!E44)","v":""},null,null,null,null,null,null,null,null,null,null,null,null,null,null,null,null,null,null,"＊印のある欄に記入された方は下記の申告書にも記入してください。"]
[null,null,null,null,null,{"$f":"IF(入力フォーム!E46=\"\",\"\",入力フォーム!E46)","v":""}]
[null,"変更事項B",null,null,null,null,null,null,null,null,"変　　更　　前",null,null,null,null,null,null,"変　　更　　後",null,null,null,null,null,null,"変更事項B",null,null,null,null,null,null,null,"変　　更　　前",null,null,null,null,null,null,null,null,null,null,"変　　更　　後"]
[null,"＊",{"$f":"IF(入力フォーム!E48=1,\"☑\",\"□\")","v":"□"},"最高限度額",null,null,null,null,"限",null,"百万",null,null,"千",null,null,"円","百万",null,null,"千",null,null,"円",{"$f":"IF(入力フォーム!E69=1,\"☑\",\"□\")","v":"□"},"積  立  終  了  日",null,null,null,null,null,null,{"$f":"IF(入力フォーム!L69=\"\",\"\",入力フォーム!L69)","v":""},null,null,null,null,null,null,"(満",{"$f":"IF(AG35=\"\",\"\",DATEDIF(F22,AG35+1,\"Y\"))","v":""},null,"歳)",{"$f":"IF(入力フォーム!L70=\"\",\"\",入力フォーム!L70)","v":""},null,null,null,null,null,null,"(満",{"$f":"IF(AR35=\"\",\"\",DATEDIF(F22,AR35+1,\"Y\"))","v":""},null,"歳)"]
[null,null,null,null,null,null,null,null,null,null,{"$f":"IF(入力フォーム!M49=\"\",\"\",入力フォーム!M49)","v":""},{"$f":"IF(入力フォーム!N49=\"\",\"\",入力フォーム!N49)","v":""},{"$f":"IF(入力フォーム!O49=\"\",\"\",入力フォーム!O49)","v":""},{"$f":"IF(入力フォーム!P49=\"\",\"\",入力フォーム!P49)","v":""},{"$f":"IF(入力フォーム!Q49=\"\",\"\",入力フォーム!Q49)","v":""},{"$f":"IF(入力フォーム!R49=\"\",\"\",入力フォーム!R49)","v":""},{"$f":"IF(入力フォーム!S49=\"\",\"\",入力フォーム!S49)","v":""},{"$f":"IF(入力フォーム!M51=\"\",\"\",入力フォーム!M51)","v":""},{"$f":"IF(入力フォーム!N51=\"\",\"\",入力フォーム!N51)","v":""},{"$f":"IF(入力フォーム!O51=\"\",\"\",入力フォーム!O51)","v":""},{"$f":"IF(入力フォーム!P51=\"\",\"\",入力フォーム!P51)","v":""},{"$f":"IF(入力フォーム!Q51=\"\",\"\",入力フォーム!Q51)","v":""},{"$f":"IF(入力フォーム!R51=\"\",\"\",入力フォーム!R51)","v":""},{"$f":"IF(入力フォーム!S51=\"\",\"\",入力フォーム!S51)","v":""}]
[null,null,null,"（積立限度額）",null,null,null,null,null,null,null,null,null,null,null,null,null,null,null,null,null,null,null,null,{"$f":"IF(入力フォーム!E72=1,\"☑\",\"□\")","v":"□"},"年金支払開始日",null,null,null,null,null,null,{"$f":"IF(入力フォーム!L72=\"\",\"\",入力フォーム!L72)","v":""},null,null,null,null,null,null,"(満",{"$f":"IF(AG37=\"\",\"\",DATEDIF(F22,AG37+1,\"Y\"))","v":""},null,"歳)",{"$f":"IF(入力フォーム!L73=\"\",\"\",入力フォーム!L73)","v":""},null,null,null,null,null,null,"(満",{"$f":"IF(AR37=\"\",\"\",DATEDIF(F22,AR37+1,\"Y\"))","v":""},null,"歳)"]
[null,"積　立　額",{"$f":"IF(入力フォーム!E53=1,\"☑\",\"□\")","v":"□"},"俸　　　　給",null,null,null,null,null,null,{"$f":"IF(入力フォーム!L53=\"\",\"\",入力フォーム!L53)","v":""},{"$f":"IF(入力フォーム!M53=\"\",\"\",入力フォーム!M53)","v":""},{"$f":"IF(入力フォーム!N53=\"\",\"\",入力フォーム!N53)","v":""},{"$f":"IF(入力フォーム!O53=\"\",\"\",入力フォーム!O53)","v":""},"千円",null,null,{"$f":"IF(入力フォーム!L54=\"\",\"\",入力フォーム!L54)","v":""},{"$f":"IF(入力フォーム!M54=\"\",\"\",入力フォーム!M54)","v":""},{"$f":"IF(入力フォーム!N54=\"\",\"\",入力フォーム!N54)","v":""},{"$f":"IF(入力フォーム!O54=\"\",\"\",入力フォーム!O54)","v":""},"千円"]
[null,null,null,null,null,null,null,null,null,null,null,null,null,null,null,null,null,null,null,null,null,null,null,null,{"$f":"IF(入力フォーム!E75=1,\"☑\",\"□\")","v":"□"},"年 金 支 払 期 間",null,null,null,null,null,null,{"$f":"IF(入力フォーム!L75=\"\",\"\",入力フォーム!L75)","v":""},null,null,"年間（",null,null,{"$f":"IF(入力フォーム!O75=\"\",\"\",入力フォーム!O75)","v":""},null,null,"回）",null,{"$f":"IF(入力フォーム!L76=\"\",\"\",入力フォーム!L76)","v":""},null,null,"年間（",null,null,{"$f":"IF(入力フォーム!O76=\"\",\"\",入力フォーム!O76)","v":""},null,null,"回）"]
[null,null,null,"　　変更時期",null,null,null,null,null,null,"令和",null,{"$f":"IF(入力フォーム!U54=\"\",\"\",入力フォーム!U54)","v":""},null,"年",{"$f":"IF(入力フォーム!W54=\"\",\"\",入力フォーム!W54)","v":""},null,"月分から"]
[null,null,null,"期末(",null,{"$f":"IF(入力フォーム!E56=1,\"☑\",\"□\")","v":"□"},"６月期)",null,null,null,{"$f":"IF(入力フォーム!L56=\"\",\"\",入力フォーム!L56)","v":""},{"$f":"IF(入力フォーム!M56=\"\",\"\",入力フォーム!M56)","v":""},{"$f":"IF(入力フォーム!N56=\"\",\"\",入力フォーム!N56)","v":""},{"$f":"IF(入力フォーム!O56=\"\",\"\",入力フォーム!O56)","v":""},"千円",null,null,{"$f":"IF(入力フォーム!L57=\"\",\"\",入力フォーム!L57)","v":""},{"$f":"IF(入力フォーム!M57=\"\",\"\",入力フォーム!M57)","v":""},{"$f":"IF(入力フォーム!N57=\"\",\"\",入力フォーム!N57)","v":""},{"$f":"IF(入力フォーム!O57=\"\",\"\",入力フォーム!O57)","v":""},"千円",null,null,{"$f":"IF(入力フォーム!E78=1,\"☑\",\"□\")","v":"□"},"ゆうちょ銀行の財\n形年金の支払期間",null,null,null,null,null,null,"令和",null,{"$f":"IF(入力フォーム!M79=\"\",\"\",入力フォーム!M79)","v":""},"年",{"$f":"IF(入力フォーム!O79=\"\",\"\",入力フォーム!O79)","v":""},null,"月から",null,{"$f":"IF(入力フォーム!R79=\"\",\"\",入力フォーム!R79)","v":""},null,"年","令和",null,{"$f":"IF(入力フォーム!M80=\"\",\"\",入力フォーム!M80)","v":""},"年",{"$f":"IF(入力フォーム!O80=\"\",\"\",入力フォーム!O80)","v":""},null,"月から",null,{"$f":"IF(入力フォーム!R80=\"\",\"\",入力フォーム!R80)","v":""},null,"年"]
[null,null,null,null,null,null,null,null,null,null,null,null,null,null,null,null,null,null,null,null,null,null,null,null,null,null,null,null,null,null,null,null,{"$f":"IF(入力フォーム!T79=\"\",\"\",入力フォーム!T79)","v":""},null,"月まで",null,{"$f":"IF(入力フォーム!W79=\"\",\"\",入力フォーム!W79)","v":""},null,"年",{"$f":"IF(入力フォーム!Y79=\"\",\"\",入力フォーム!Y79)","v":""},null,"月間",null,{"$f":"IF(入力フォーム!T80=\"\",\"\",入力フォーム!T80)","v":""},null,"月まで",null,{"$f":"IF(入力フォーム!W80=\"\",\"\",入力フォーム!W80)","v":""},null,"年",{"$f":"IF(入力フォーム!Y80=\"\",\"\",入力フォーム!Y80)","v":""},null,"月間"]
[null,null,null,"手当(",null,{"$f":"IF(入力フォーム!E59=1,\"☑\",\"□\")","v":"□"},"12月期)",null,null,null,{"$f":"IF(入力フォーム!L59=\"\",\"\",入力フォーム!L59)","v":""},{"$f":"IF(入力フォーム!M59=\"\",\"\",入力フォーム!M59)","v":""},{"$f":"IF(入力フォーム!N59=\"\",\"\",入力フォーム!N59)","v":""},{"$f":"IF(入力フォーム!O59=\"\",\"\",入力フォーム!O59)","v":""},"千円",null,null,{"$f":"IF(入力フォーム!L60=\"\",\"\",入力フォーム!L60)","v":""},{"$f":"IF(入力フォーム!M60=\"\",\"\",入力フォーム!M60)","v":""},{"$f":"IF(入力フォーム!N60=\"\",\"\",入力フォーム!N60)","v":""},{"$f":"IF(入力フォーム!O60=\"\",\"\",入力フォーム!O60)","v":""},"千円",null,null,{"$f":"IF(入力フォーム!E81=1,\"☑\",\"□\")","v":"□"},"年金の支払方法",null,null,null,null,null,null,{"$f":"IF(入力フォーム!L82=1,\"☑\",\"□\")","v":"□"},"定額方式",null,null,{"$f":"IF(入力フォーム!L82=2,\"☑\",\"□\")","v":"□"},"逓増方式",null,null,null,null,null,{"$f":"IF(入力フォーム!L86=1,\"☑\",\"□\")","v":"□"},"定額方式",null,null,{"$f":"IF(入力フォーム!L86=2,\"☑\",\"□\")","v":"□"},"逓増方式"]
[null,null,null,null,null,null,null,null,null,null,null,null,null,null,null,null,null,null,null,null,null,null,null,null,null,null,null,null,null,null,null,null,{"$f":"IF(入力フォーム!L82=3,\"☑\",\"□\")","v":"□"},"定額逓増方式（損害保険）",null,null,null,null,null,null,null,null,null,{"$f":"IF(入力フォーム!L86=3,\"☑\",\"□\")","v":"□"},"定額逓増方式（損害保険）"]
[null,null,null,"　　変更時期",null,null,null,null,null,null,"令和",null,{"$f":"IF(入力フォーム!U58=\"\",\"\",入力フォーム!U58)","v":""},null,"年",{"$f":"IF(入力フォーム!W58=\"\",\"\",入力フォーム!W58)","v":""},null,"月分から",null,null,null,null,null,null,null,null,null,null,null,null,null,null,null,"（生命保険）",null,null,null,null,null,null,null,null,null,null,"（生命保険）"]
[null,{"$f":"IF(入力フォーム!E62=1,\"☑\",\"□\")","v":"□"},"積立の中断・再開",null,null,null,"俸　　給",null,null,null,{"$f":"IF(入力フォーム!L62=1,\"☑\",\"□\")","v":"□"},"中断",null,{"$f":"IF(入力フォーム!L62=2,\"☑\",\"□\")","v":"□"},"再開",null,"令和",null,{"$f":"IF(入力フォーム!R62=\"\",\"\",入力フォーム!R62)","v":""},"年",{"$f":"IF(入力フォーム!T62=\"\",\"\",入力フォーム!T62)","v":""},null,"月から",null,null,null,null,null,null,null,null,null,null,{"$f":"IF(入力フォーム!L84=1,\"☑\",\"□\")","v":"□"},"確定年金（",null,null,{"$f":"IF(AH46=\"☑\",入力フォーム!O84,\"\")","v":""},null,"年）",null,null,null,null,{"$f":"IF(入力フォーム!L88=1,\"☑\",\"□\")","v":"□"},"確定年金（",null,null,{"$f":"IF(AS46=\"☑\",入力フォーム!O88,\"\")","v":""},null,"年）"]
[null,null,null,null,null,null,"期末手当",null,null,null,{"$f":"IF(入力フォーム!L64=1,\"☑\",\"□\")","v":"□"},"中断",null,{"$f":"IF(入力フォーム!L64=2,\"☑\",\"□\")","v":"□"},"再開",null,"令和",null,{"$f":"IF(入力フォーム!R64=\"\",\"\",入力フォーム!R64)","v":""},"年",{"$f":"IF(入力フォーム!T64=\"\",\"\",入力フォーム!T64)","v":""},null,"月から",null,null,null,null,null,null,null,null,null,null,{"$f":"IF(入力フォーム!L84=2,\"☑\",\"□\")","v":"□"},"終身年金（",null,null,{"$f":"IF(入力フォーム!T84=1,\"☑\",\"□\")","v":"□"},"定額",null,{"$f":"IF(入力フォーム!T84=2,\"☑\",\"□\")","v":"□"},"逓増）",null,null,{"$f":"IF(入力フォーム!L88=2,\"☑\",\"□\")","v":"□"},"終身年金（",null,null,{"$f":"IF(入力フォーム!T88=1,\"☑\",\"□\")","v":"□"},"定額",null,{"$f":"IF(入力フォーム!T88=2,\"☑\",\"□\")","v":"□"},"逓増）"]
[null,{"$f":"IF(入力フォーム!E66=1,\"☑\",\"□\")","v":"□"},"保　険　期　間",null,null,null,null,null,null,null,{"$f":"IF(入力フォーム!L66=\"\",\"\",入力フォーム!L66)","v":""},null,null,"年",null,null,null,{"$f":"IF(入力フォーム!L67=\"\",\"\",入力フォーム!L67)","v":""},null,null,"年",null,null,null,{"$f":"IF(入力フォーム!E90=1,\"☑\",\"□\")","v":"□"},"年金の支払回数",null,null,null,null,null,null,{"$f":"IF(入力フォーム!L90=\"\",\"\",入力フォーム!L90)","v":""},null,"年",{"$f":"IF(入力フォーム!N90=\"\",\"\",入力フォーム!N90)","v":""},null,null,"回",null,null,null,null,{"$f":"IF(入力フォーム!L91=\"\",\"\",入力フォーム!L91)","v":""},null,"年",{"$f":"IF(入力フォーム!N91=\"\",\"\",入力フォーム!N91)","v":""},null,null,"回"]
[null,null,null,null,null,null,null,null,null,null,null,null,null,null,{"$f":"IF(OR(H50=\"年金\",H50=\"住宅\"),IF(AND(OR(D25=\"☑\",D28=\"☑\"),OR(Y26=\"☑\",Y28=\"☑\"),C35=\"☑\"),\"限度額変更・異動・勤務先異動\",IF(AND(OR(D25=\"☑\",D28=\"☑\"),OR(Y26=\"☑\",Y28=\"☑\")),\"異動・勤務先異動\",IF(AND(OR(D25=\"☑\",D28=\"☑\"),C35=\"☑\"),\"限度額変更・勤務先異動\",IF(OR(D25=\"☑\",D28=\"☑\"),\"勤務先異動\",IF(AND(C35=\"☑\",OR(Y26=\"☑\",Y28=\"☑\")),\"限度額変更・異動\",IF(C35=\"☑\",\"限度額変更\",\"異動\")))))),\"限度額変更・異動・勤務先異動\")","v":"限度額変更・異動・勤務先異動"}]
["財産形成非課税",null,null,null,null,null,null,{"$f":"IF(N3=\"☑\",IF(OR(D25=\"☑\",D28=\"☑\",Y26=\"☑\",Y28=\"☑\",C35=\"☑\",C68=\"☑\"),\"年金\",\"年金・住宅\"),IF(N4=\"☑\",IF(OR(D25=\"☑\",D28=\"☑\",Y26=\"☑\",Y28=\"☑\",C35=\"☑\",C68=\"☑\"),\"住宅\",\"年金・住宅\"),\"年金・住宅\"))","v":"年金・住宅"},null,null,null,null,"貯蓄",null,null,null,null,null,null,null,null,null,"申告書",null,null,null,null,null,null,null,null,null,null,null,null,"種　別",null,null,{"$f":"IF(入力フォーム!D96=1,\"☑\",\"□\")","v":"□"},"預　　貯　　金",null,null,null,null,null,"改印の場合にはこちらにも押印してください。"]
[null,null,null,null,null,null,null,null,null,null,null,null,null,null,null,null,null,null,null,null,null,null,null,null,null,null,null,null,null,null,null,null,null,null,null,null,null,null,{"$f":"IF(入力フォーム!D96=2,\"☑\",\"□\")","v":"□"},"合 同 運 用 信 託",null,null,null,null,null,null,null,null,null,"新印鑑"]
[null,null,null,null,null,null,null,null,null,null,null,null,null,null,null,null,null,null,null,null,null,null,null,null,null,null,null,null,null,null,null,null,null,null,null,null,null,null,{"$f":"IF(入力フォーム!D96=3,\"☑\",\"□\")","v":"□"},"有　価　証　券"]
[null,null,null,null,null,null,null,null,null,null,null,null,null,null,null,null,null,null,null,null,null,null,null,null,null,null,null,null,null,null,null,null,null,null,null,null,null,null,{"$f":"IF(入力フォーム!D96=4,\"☑\",\"□\")","v":"□"},"生命・損害保険の保険料"]
[null,null,null,null,null,null,null,"税　務　署　長　殿",null,null,null,null,null,null,null,null,null,null,null,null,null,null,null,null,null,null,null,null,null,{"$f":"IF(OR(H50=\"年金\",H50=\"住宅\"),AV9,\"　　年　　月　　日\")","v":"　　年　　月　　日"}]
[null,"ふりがな",null,null,null,null,null,null,null,null,null,null,null,null,null,null,null,null,null,"個人番号（異動・勤務先異動の場合に記入）",null,null,null,null,null,null,null,null,null,null,null,null,null,null,null,null,"※欄に記載した事項は、勤務先の長により事実に相違ないことを確認しました。"]
[null,"氏　　名",null,null,null,null,null,null,null,null,null,null,null,null,null,null,null,null,null,{"$f":"IF(入力フォーム!D101=\"\",\"\",入力フォーム!D101)","v":""}]
[]
[null,"住　　所",null,null,null,{"$f":"IF(OR(H50=\"年金\",H50=\"住宅\"),AA19,\"\")","v":""},null,null,null,null,null,null,null,null,null,null,null,null,null,null,null,null,null,null,null,null,null,null,null,null,null,null,null,null,null,null,null,null,null,null,null,null,null,null,null,"（金融機関等使用欄）"]
[]
[null,null,"次のとおり申告します。",null,null,null,null,null,null,null,null,null,null,null,null,null,null,null,null,null,null,null,null,null,null,null,null,null,null,null,null,null,null,null,null,null,"令和　　年　　月　　日"]
[]
["（該当する事項の□の中にレ印を付し、必要事項を記入してください。）",null,"変更事項",null,null,null,null,null,null,"変　　更　　前",null,null,null,null,null,null,null,null,null,null,null,null,null,"変　　更　　後",null,null,null,null,null,null,null,null,null,null,null,null,null,"異　動　の\n生 じ た 日\n（年・月・日）",null,null,null,null,null,null,null,null,"番　号"]
[null,null,{"$f":"IF(OR(H50=\"年金\",H50=\"住宅\"),C35,\"□\")","v":"□"},"最高限度額",null,null,null,null,null,"百万",null,null,null,null,null,"千",null,null,null,null,null,"円",null,"百万",null,null,null,null,null,"千",null,null,null,null,null,"円"]
[null,null,null,null,null,null,null,null,null,{"$f":"IF($C$63=\"☑\",K36,\"\")","v":""},null,{"$f":"IF($C$63=\"☑\",L36,\"\")","v":""},null,{"$f":"IF($C$63=\"☑\",M36,\"\")","v":""},null,{"$f":"IF($C$63=\"☑\",N36,\"\")","v":""},null,{"$f":"IF($C$63=\"☑\",O36,\"\")","v":""},null,{"$f":"IF($C$63=\"☑\",P36,\"\")","v":""},null,{"$f":"IF($C$63=\"☑\",Q36,\"\")","v":""},null,{"$f":"IF($C$63=\"☑\",R36,\"\")","v":""},null,{"$f":"IF($C$63=\"☑\",S36,\"\")","v":""},null,{"$f":"IF($C$63=\"☑\",T36,\"\")","v":""},null,{"$f":"IF($C$63=\"☑\",U36,\"\")","v":""},null,{"$f":"IF($C$63=\"☑\",V36,\"\")","v":""},null,{"$f":"IF($C$63=\"☑\",W36,\"\")","v":""},null,{"$f":"IF($C$63=\"☑\",X36,\"\")","v":""}]
[null,null,null,null,null,null,null,null,null,"※既に非課税扱いの申告をしている最高限度額の合計額"]
[null,null,{"$f":"IF(OR(H50=\"年金\",H50=\"住宅\"),IF(OR(D30=\"☑\",Y26=\"☑\"),\"☑\",\"□\"),\"□\")","v":"□"},{"$f":"IF(OR(H50=\"年金\",H50=\"住宅\"),IF(D30=\"☑\",\"店 舗\",IF(Y26=\"☑\",\"氏 名\",\"氏 名・店 舗\")),\"氏 名・店 舗\")","v":"氏 名・店 舗"},null,null,null,null,null,{"$f":"IF(OR(H50=\"年金\",H50=\"住宅\"),IF(Y26=\"☑\",AE26,IF(D30=\"☑\",J30,\"\")),\"\")","v":""},null,null,null,null,null,null,null,null,null,null,null,null,null,{"$f":"IF(OR(H50=\"年金\",H50=\"住宅\"),IF(Y26=\"☑\",入力フォーム!L104,IF(YD30=\"☑\",R30,\"\")),\"\")","v":""},null,null,null,null,null,null,null,null,null,null,null,null,null,{"$f":"IF(AN66=\"\",\"\",\"令和\")","v":""},null,{"$f":"IF(D66=\"氏 名\",入力フォーム!L103,IF(D66=\"店 舗\",入力フォーム!L106,\"\"))","v":""},"・",{"$f":"IF(D66=\"氏 名\",入力フォーム!N103,IF(D66=\"店 舗\",入力フォーム!N106,\"\"))","v":""},"・",{"$f":"IF(D66=\"氏 名\",入力フォーム!P103,IF(D66=\"店 舗\",入力フォーム!P106,\"\"))","v":""}]
[null,null,{"$f":"IF(OR(H50=\"年金\",H50=\"住宅\"),IF(Y28=\"☑\",\"☑\",IF(D30=\"☑\",\"☑\",\"□\")),\"□\")","v":"□"},"住　　  　所",null,null,null,null,null,{"$f":"IF(OR(H50=\"年金\",H50=\"住宅\"),IF(Y28=\"☑\",AE28,IF(D30=\"☑\",入力フォーム!J108,\"\")),\"\")","v":""},null,null,null,null,null,null,null,null,null,null,null,null,null,{"$f":"IF(OR(H50=\"年金\",H50=\"住宅\"),IF(Y28=\"☑\",AA19,IF(D30=\"☑\",入力フォーム!J109,\"\")),\"\")","v":""},null,null,null,null,null,null,null,null,null,null,null,null,null,{"$f":"IF(AN67=\"\",\"\",\"令和\")","v":""},null,{"$f":"IF(OR(H50=\"年金\",H50=\"住宅\"),IF(Y28=\"☑\",入力フォーム!L115,IF(D30=\"☑\",入力フォーム!L106,\"\")),\"\")","v":""},"・",{"$f":"IF(OR(H50=\"年金\",H50=\"住宅\"),IF(Y28=\"☑\",入力フォーム!N115,IF(D30=\"☑\",入力フォーム!N106,\"\")),\"\")","v":""},"・",{"$f":"IF(OR(H50=\"年金\",H50=\"住宅\"),IF(Y28=\"☑\",入力フォーム!P115,IF(D30=\"☑\",入力フォーム!P106,\"\")),\"\")","v":""}]
[null,null,{"$f":"IF(入力フォーム!I111,\"☑\",\"□\")","v":"□"},"個  人  番  号",null,null,null,null,null,{"$f":"IF(OR(H50=\"年金\",H50=\"住宅\"),IF(C68=\"☑\",入力フォーム!I111,\"\"),\"\")","v":""},null,null,null,null,null,null,null,null,null,null,null,null,null,{"$f":"IF(OR(H50=\"年金\",H50=\"住宅\"),IF(C68=\"☑\",入力フォーム!I112,\"\"),\"\")","v":""},null,null,null,null,null,null,null,null,null,null,null,null,null,{"$f":"IF(AN68=\"\",\"\",\"令和\")","v":""},null,{"$f":"IF(入力フォーム!L113=\"\",\"\",入力フォーム!L113)","v":""},"・",{"$f":"IF(入力フォーム!N113=\"\",\"\",入力フォーム!N113)","v":""},"・",{"$f":"IF(入力フォーム!P113=\"\",\"\",入力フォーム!P113)","v":""}]
[null,null,{"$f":"IF(OR(H50=\"年金\",H50=\"住宅\"),D25,\"□\")","v":"□"},"勤務先",null,null,"所在地",null,null,{"$f":"IF(OR(H50=\"年金\",H50=\"住宅\"),IF(J28=\"\",F18,J28),\"\")","v":""},null,null,null,null,null,null,null,null,null,null,null,null,null,{"$f":"IF(C69=\"☑\",F18,\"\")","v":""},null,null,null,null,null,null,null,null,null,null,null,null,null,"",null,{"$f":"IF(入力フォーム!L116=\"\",\"\",入力フォーム!L116)","v":""},"・",{"$f":"IF(入力フォーム!N116=\"\",\"\",入力フォーム!N116)","v":""},"・",{"$f":"IF(入力フォーム!P116=\"\",\"\",入力フォーム!P116)","v":""}]
[null,null,null,null,null,null,"名　称",null,null,{"$f":"IF(OR(H50=\"年金\",H50=\"住宅\"),IF(J25=\"\",F12,J25),\"\")","v":""},null,null,null,null,null,null,null,null,null,null,null,null,null,{"$f":"IF(C69=\"☑\",F12,\"\")","v":""},null,null,null,null,null,null,null,null,null,null,null,null,null,"",null,{"$f":"AN69","v":""},"・",{"$f":"AP69","v":""},"・",{"$f":"AR69","v":""}]
[null,null,{"$f":"IF(OR(H50=\"年金\",H50=\"住宅\"),C69,\"□\")","v":"□"},"賃金の\n支払者",null,null,"所在地",null,null,{"$f":"J69","v":""},null,null,null,null,null,null,null,null,null,null,null,null,null,{"$f":"X69","v":""},null,null,null,null,null,null,null,null,null,null,null,null,null,"",null,{"$f":"AN69","v":""},"・",{"$f":"AP69","v":""},"・",{"$f":"AR69","v":""}]
[null,null,null,null,null,null,"名　称",null,null,{"$f":"J70","v":""},null,null,null,null,null,null,null,null,null,null,null,null,null,{"$f":"X70","v":""},null,null,null,null,null,null,null,null,null,null,null,null,null,"",null,{"$f":"AN69","v":""},"・",{"$f":"AP69","v":""},"・",{"$f":"AR69","v":""}]
[null,null,null,null,null,null,"法人番号",null,null,{"$f":"IF(J72=\"\",\"\",VLOOKUP(J72,リスト!J2:L86,3,FALSE))","v":""},null,null,null,null,null,null,null,null,null,null,null,null,null,{"$f":"IF(X72=\"\",\"\",VLOOKUP(X72,リスト!A2:C83,3,FALSE))","v":""},null,null,null,null,null,null,null,null,null,null,null,null,null,"",null,{"$f":"AN69","v":""},"・",{"$f":"AP69","v":""},"・",{"$f":"AR69","v":""},null,null,"受付日付印",null,null,null,null,"検印"]
[null,null,"□","事　務\n代行先",null,null,"所在地"]
[null,null,null,null,null,null,"名　称"]
[null,null,null,null,null,null,"法人番号"]
[]
[null,null,"受入機関の\n営業所等",null,null,null,null,"所在地",null,null,null,null,null,null,null,null,null,null,null,null,null,null,null,null,null,null,null,null,null,null,null,null,null,"受入機関の\n受理日付印"]
[null,null,null,null,null,null,null,"名　称",null,null,null,null,null,null,null,null,null,null,null,"法人番号",null,null,5010001112730]

{"sheet":"変更申込書（勤務先用）","index":2,"n_rows":79,"n_cols":55,"rows_kept":79,"cut":false,"hidden":false,"merged":[[8,1,9,4],[8,20,9,21],[8,47,9,53],[10,54,24,54],[11,1,12,4],[11,5,12,21],[11,22,12,25],[11,26,12,27],[11,28,12,29],[11,30,12,31],[11,32,12,33],[11,34,12,35],[11,36,12,37],[15,13,16,13],[15,14,16,14],[11,38,12,39],[11,40,12,41],[11,42,12,43],[11,44,12,45],[11,46,12,48],[11,49,11,53],[12,49,15,53],[15,21,16,21],[16,22,16,25],[16,26,16,53],[17,1,18,4],[17,5,18,21],[17,22,20,25],[17,27,17,34],[18,26,20,53],[19,1,20,8],[19,9,20,21],[15,15,16,15],[15,16,16,16],[15,17,16,17],[15,18,16,18],[15,19,16,19],[15,20,16,20],[13,1,16,4],[13,5,14,21],[13,22,13,25],[13,26,13,48],[14,22,15,25],[14,26,15,48],[15,5,16,11],[15,12,16,12],[21,22,22,25],[21,26,22,53],[24,1,29,1],[24,4,24,8],[24,25,24,29],[24,50,24,53],[25,4,25,8],[25,25,25,29],[21,1,22,4],[21,5,22,10],[21,11,22,11],[21,12,22,14],[21,15,22,15],[21,16,22,19],[25,49,25,53],[26,6,26,8],[26,49,29,53],[27,4,27,8],[27,25,27,29],[28,2,28,8],[28,9,28,22],[24,30,24,47],[25,30,26,47],[27,30,28,47],[33,32,33,42],[33,43,33,53],[29,15,29,16],[29,17,29,21],[29,26,29,29],[31,1,32,4],[31,5,31,16],[32,5,32,16],[29,4,29,6],[29,7,29,8],[29,9,29,13],[29,30,29,47],[33,1,33,9],[33,10,33,16],[33,17,33,23],[33,24,33,31],[40,3,41,4],[40,5,41,5],[40,6,41,9],[40,10,41,10],[40,11,41,11],[40,12,41,12],[34,1,35,1],[34,2,35,2],[34,3,35,7],[34,8,36,9],[37,1,44,1],[37,2,38,2],[42,3,43,4],[42,5,43,5],[42,6,43,9],[42,10,43,10],[42,11,43,11],[34,24,35,24],[34,25,35,31],[35,18,36,18],[35,19,36,19],[35,20,36,20],[35,21,36,21],[35,23,36,23],[36,3,36,7],[36,24,37,24],[36,25,37,31],[37,3,38,9],[37,10,38,10],[37,11,38,11],[37,12,38,12],[37,13,38,13],[37,14,38,16],[37,17,38,17],[34,51,35,52],[34,53,35,53],[35,10,36,10],[35,11,36,11],[35,12,36,12],[35,13,36,13],[35,14,36,14],[35,15,36,15],[35,16,36,16],[35,17,36,17],[34,32,35,38],[34,39,35,39],[34,40,35,41],[34,42,35,42],[34,43,35,49],[34,50,35,50],[36,53,37,53],[36,39,37,39],[36,40,37,41],[36,42,37,42],[36,43,37,49],[36,50,37,50],[36,51,37,52],[35,22,36,22],[38,43,39,45],[38,46,39,48],[38,49,39,51],[38,52,39,53],[39,3,39,9],[39,10,39,11],[39,12,39,13],[39,15,39,16],[39,17,39,19],[38,24,39,24],[38,25,39,31],[38,32,39,34],[38,35,39,37],[38,38,39,40],[38,41,39,42],[37,20,38,20],[37,21,38,23],[40,40,40,41],[40,43,40,44],[40,47,40,48],[40,49,40,50],[40,51,40,52],[41,32,41,33],[41,34,41,35],[41,36,41,37],[41,39,41,40],[41,41,41,42],[40,32,40,33],[40,36,40,37],[40,38,40,39],[41,43,41,44],[41,45,41,46],[41,47,41,48],[41,50,41,51],[41,52,41,53],[42,44,42,46],[42,48,42,50],[43,33,43,40],[43,44,43,51],[44,3,44,9],[44,10,44,11],[44,12,44,13],[44,15,44,16],[44,17,44,19],[44,33,44,36],[42,20,43,20],[42,21,43,23],[42,24,46,24],[42,25,46,31],[42,33,42,35],[42,37,42,39],[45,37,45,38],[42,12,43,12],[42,13,43,13],[42,14,43,16],[42,17,43,17],[42,18,43,18],[42,19,43,19],[44,44,44,47],[45,1,46,1],[45,2,46,5],[45,6,45,9],[45,11,45,12],[45,14,45,15],[45,16,45,17],[45,20,45,21],[45,22,45,23],[45,34,45,36],[45,48,45,49],[46,6,46,9],[46,11,46,12],[46,14,46,15],[46,16,46,17],[46,20,46,21],[46,22,46,23],[46,34,46,36],[46,38,46,39],[46,41,46,42],[46,45,46,47],[46,49,46,50],[45,45,45,47],[46,52,46,53],[62,3,64,8],[65,3,65,8],[48,14,51,21],[49,0,50,6],[49,7,50,11],[49,12,50,13],[49,22,50,24],[52,1,53,6],[54,1,54,4],[54,5,54,18],[55,1,56,4],[55,5,56,18],[50,49,50,53],[51,49,54,53],[47,32,47,33],[47,35,47,37],[47,43,47,44],[47,46,47,48],[47,2,47,9],[47,10,47,12],[47,14,47,16],[47,17,47,19],[47,21,47,23],[70,2,72,2],[70,3,72,5],[70,6,70,8],[74,6,74,8],[71,6,71,8],[72,6,72,8],[57,1,58,4],[66,3,66,8],[68,2,69,2],[68,3,69,5],[68,6,68,8],[69,6,69,8],[61,0,75,1],[61,2,61,8],[62,2,64,2],[67,3,67,8],[77,2,78,6],[77,7,77,9],[78,7,78,9],[75,6,75,8],[73,2,75,2],[73,3,75,5],[73,6,73,8],[77,10,77,29],[78,10,78,18],[78,22,78,29],[72,37,72,38],[24,9,24,22],[25,9,26,22],[27,9,27,22],[8,5,9,19],[1,20,1,24],[2,20,2,24],[3,20,3,24],[1,26,3,35],[49,25,50,27],[4,24,5,30],[40,21,41,23],[40,24,41,24],[40,25,41,31],[40,13,41,13],[40,14,41,16],[40,17,41,17],[40,18,41,18],[40,19,41,19],[40,20,41,20],[36,32,37,38],[37,18,38,18],[37,19,38,19],[47,25,47,31],[73,37,73,43],[74,37,74,43],[75,37,75,43],[53,29,53,34],[57,5,58,34],[55,19,56,34],[54,19,54,34],[54,36,58,43],[59,36,59,43],[61,9,61,22],[61,23,61,36],[62,11,62,12],[63,11,63,12],[62,9,62,10],[63,9,63,10],[62,13,62,14],[62,15,62,16],[62,17,62,18],[62,19,62,20],[62,21,62,22],[62,23,62,24],[62,25,62,26],[62,27,62,28],[62,29,62,30],[63,13,63,14],[63,15,63,16],[63,17,63,18],[63,19,63,20],[63,21,63,22],[63,23,63,24],[63,25,63,26],[63,27,63,28],[63,29,63,30],[64,9,64,22],[64,23,64,24],[64,25,64,26],[64,27,64,28],[64,29,64,30],[64,31,64,32],[64,33,64,34],[64,35,64,36],[65,9,65,22],[65,23,65,36],[72,23,72,36],[73,23,73,36],[74,23,74,36],[75,23,75,36],[66,9,66,22],[68,9,68,22],[69,9,69,22],[70,9,70,22],[71,9,71,22],[72,9,72,22],[73,9,73,22],[74,9,74,22],[75,9,75,22],[66,23,66,36],[68,23,68,36],[69,23,69,36],[70,23,70,36],[71,23,71,36],[67,9,67,22],[68,37,68,38],[69,37,69,38],[70,37,70,38],[71,37,71,38],[49,45,54,48],[49,39,49,43],[62,31,62,32],[62,33,62,34],[62,35,62,36],[63,31,63,32],[63,33,63,34],[63,35,63,36],[61,37,64,43],[65,37,65,38],[66,37,66,38],[50,39,50,43],[51,39,51,43],[52,39,52,43],[49,35,52,37],[67,23,67,36],[67,37,67,38]]}
["（国家公務員用）"]
[null,null,null,null,null,null,null,null,null,null,null,null,null,null,null,null,null,null,null,{"$f":"'変更申込書（金融機関等用）'!N2","v":"□"},"財  産  形  成",null,null,null,null,null,"貯蓄変更依頼書"]
[null,null,null,null,null,null,null,null,null,null,null,null,null,null,null,null,null,null,null,{"$f":"'変更申込書（金融機関等用）'!N3","v":"□"},"財産形成年金"]
[null,null,null,null,null,null,null,null,null,null,null,null,null,null,null,null,null,null,null,{"$f":"'変更申込書（金融機関等用）'!N4","v":"□"},"財産形成住宅"]
[null,null,null,null,null,null,null,null,null,null,null,null,null,null,null,null,null,null,null,null,null,null,null,null,"所 属 省 庁 御 中"]
[]
[null,null,null,"私は、財産形成貯蓄、財産形成年金貯蓄又は財産形成住宅貯蓄天引積立依頼書（及び既に提出した財産形成貯蓄、財産形成年金貯蓄又は財産形成住宅貯蓄変更依頼書）をもって申し込んだ"]
[null,null,"事項につき下記のとおり変更したいので、この旨申し込みます。"]
[null,"取扱金融\n機 関 等",null,null,null,{"$f":"'変更申込書（金融機関等用）'!F9:T10","v":0},null,null,null,null,null,null,null,null,null,null,null,null,null,null,"御中",null,null,null,null,null,null,null,null,null,null,null,null,null,null,null,null,null,null,null,null,null,null,null,null,null,null,{"$f":"'変更申込書（金融機関等用）'!AV9:BB10","v":"2024-08-22"}]
[]
[null,null,null,null,null,null,null,null,null,null,null,null,null,null,null,null,null,null,null,null,null,null,null,null,null,null,null,null,null,null,null,null,null,null,null,null,null,null,null,null,null,null,null,null,null,null,null,null,null,null,null,null,null,null,"改印する場合は新印章を押印してください。"]
[null,"勤  務  先",null,null,null,{"$f":"'変更申込書（金融機関等用）'!$F$12:$V$13","v":0},null,null,null,null,null,null,null,null,null,null,null,null,null,null,null,null,"職 員 番 号",null,null,null,null,null,null,null,null,null,null,null,null,null,null,null,null,null,null,null,null,null,null,null,null,null,null,"お届出印"]
[]
[null,"所属部課\n同  番  号",null,null,null,null,null,null,null,null,null,null,null,null,null,null,null,null,null,null,null,null,"ふりがな"]
[null,null,null,null,null,null,null,null,null,null,null,null,null,null,null,null,null,null,null,null,null,null,"氏　    名"]
[]
[null,null,null,null,null,null,null,null,null,null,null,null,null,null,null,null,null,null,null,null,null,null,"ふりがな",null,null,null,{"$f":"'変更申込書（金融機関等用）'!$AA$17:$BB$17","v":0}]
[null,"所  在  地",null,null,null,{"$f":"'変更申込書（金融機関等用）'!$F$18:$V$19","v":{"$error":"#N/A"}},null,null,null,null,null,null,null,null,null,null,null,null,null,null,null,null,"住　    所",null,null,null,"(〒",{"$f":"'変更申込書（金融機関等用）'!$AB$18:$AI$18","v":0},null,null,null,null,null,null,null,")"]
[null,null,null,null,null,null,null,null,null,null,null,null,null,null,null,null,null,null,null,null,null,null,null,null,null,null,{"$f":"'変更申込書（金融機関等用）'!$AA$19:$BB$21","v":0}]
[null,"法人番号\n（年金・住宅貯蓄の場合に記入）",null,null,null,null,null,null,null,{"$f":"'変更申込書（金融機関等用）'!$J$20:$V$21","v":""}]
[]
[null,"生年月日",null,null,null,{"$f":"'変更申込書（金融機関等用）'!$F$22:$K$23","v":"00:00:00"},null,null,null,null,null,"(満",{"$f":"'変更申込書（金融機関等用）'!$M$22:$O$23","v":124},null,null,"歳)","男女別",null,null,null,"男","女","電 話 番 号",null,null,null,{"$f":"'変更申込書（金融機関等用）'!$AA$22:$BB$23","v":0}]
[null,null,null,null,null,null,null,null,null,null,null,null,null,null,null,null,null,null,null,null,{"$f":"'変更申込書（金融機関等用）'!U23","v":"□"},{"$f":"'変更申込書（金融機関等用）'!V23","v":"□"}]
[]
[null,"変更事項A","＊",{"$f":"'変更申込書（金融機関等用）'!D25","v":"□"},"（旧）勤 務 先",null,null,null,null,{"$f":"'変更申込書（金融機関等用）'!J25:W25","v":""},null,null,null,null,null,null,null,null,null,null,null,null,null,null,{"$f":"'変更申込書（金融機関等用）'!Y25","v":"□"},"（旧）職員番号",null,null,null,null,null,null,null,null,null,null,null,null,null,null,null,null,null,null,null,null,null,null,null,{"$f":"'変更申込書（金融機関等用）'!AX25","v":"□"},"印鑑変更"]
[null,null,null,"□","（旧）所属部課",null,null,null,null,null,null,null,null,null,null,null,null,null,null,null,null,null,null,"＊",{"$f":"'変更申込書（金融機関等用）'!Y26","v":"□"},"（旧）氏　　名",null,null,null,null,{"$f":"'変更申込書（金融機関等用）'!AE26:AV27","v":""},null,null,null,null,null,null,null,null,null,null,null,null,null,null,null,null,null,null,"（旧印鑑）"]
[null,null,null,null,null,null,"（同番号）"]
[null,null,"＊",{"$f":"'変更申込書（金融機関等用）'!D28","v":"□"},"（旧）所 在 地",null,null,null,null,{"$f":"'変更申込書（金融機関等用）'!J28:W28","v":""},null,null,null,null,null,null,null,null,null,null,null,null,null,"＊",{"$f":"'変更申込書（金融機関等用）'!Y28","v":"□"},"（旧）住　　所",null,null,null,null,{"$f":"'変更申込書（金融機関等用）'!AE28:AV29","v":""}]
[null,null,"勤務先異動日",null,null,null,null,null,null,{"$f":"'変更申込書（金融機関等用）'!$J$29:$W$29","v":""}]
[null,null,"＊",{"$f":"'変更申込書（金融機関等用）'!D30","v":"□"},"店舗",null,null,"変更前",null,{"$f":"'変更申込書（金融機関等用）'!J30:N30","v":""},null,null,null,null,"店","変更後",null,{"$f":"'変更申込書（金融機関等用）'!R30:V30","v":""},null,null,null,null,"店",null,null,null,"（電話番号）",null,null,null,{"$f":"'変更申込書（金融機関等用）'!AE30:AV30","v":""}]
[null,null,null,null,null,null,null,null,null,null,null,null,null,null,null,null,null,null,null,null,null,null,null,null,"財産形成年金貯蓄又は財産形成住宅貯蓄に関する変更の場合で、"]
[null,"貯蓄の種類",null,null,null,{"$f":"'変更申込書（金融機関等用）'!$F$32:$Q$32","v":""},null,null,null,null,null,null,null,null,null,null,null,null,null,null,null,null,null,null,"＊印のある欄に記入された方は下記の申告書にも記入してください。"]
[null,null,null,null,null,{"$f":"'変更申込書（金融機関等用）'!$F$33:$Q$33","v":""}]
[null,"変更事項B",null,null,null,null,null,null,null,null,"変　　更　　前",null,null,null,null,null,null,"変　　更　　後",null,null,null,null,null,null,"変更事項B",null,null,null,null,null,null,null,"変　　更　　前",null,null,null,null,null,null,null,null,null,null,"変　　更　　後"]
[null,"＊",{"$f":"'変更申込書（金融機関等用）'!C35:C36","v":"□"},"最高限度額",null,null,null,null,"限",null,"百万",null,null,"千",null,null,"円","百万",null,null,"千",null,null,"円",{"$f":"'変更申込書（金融機関等用）'!Y35:Y36","v":"□"},"積  立  終  了  日",null,null,null,null,null,null,{"$f":"'変更申込書（金融機関等用）'!AG35:AM36","v":""},null,null,null,null,null,null,"(満",{"$f":"'変更申込書（金融機関等用）'!AO35:AP36","v":""},null,"歳)",{"$f":"'変更申込書（金融機関等用）'!AR35:AX36","v":""},null,null,null,null,null,null,"(満",{"$f":"'変更申込書（金融機関等用）'!AZ35:BA36","v":""},null,"歳)"]
[null,null,null,null,null,null,null,null,null,null,{"$f":"'変更申込書（金融機関等用）'!K36:K37","v":""},{"$f":"'変更申込書（金融機関等用）'!L36:L37","v":""},{"$f":"'変更申込書（金融機関等用）'!M36:M37","v":""},{"$f":"'変更申込書（金融機関等用）'!N36:N37","v":""},{"$f":"'変更申込書（金融機関等用）'!O36:O37","v":""},{"$f":"'変更申込書（金融機関等用）'!P36:P37","v":""},{"$f":"'変更申込書（金融機関等用）'!Q36:Q37","v":""},{"$f":"'変更申込書（金融機関等用）'!R36:R37","v":""},{"$f":"'変更申込書（金融機関等用）'!S36:S37","v":""},{"$f":"'変更申込書（金融機関等用）'!T36:T37","v":""},{"$f":"'変更申込書（金融機関等用）'!U36:U37","v":""},{"$f":"'変更申込書（金融機関等用）'!V36:V37","v":""},{"$f":"'変更申込書（金融機関等用）'!W36:W37","v":""},{"$f":"'変更申込書（金融機関等用）'!X36:X37","v":""}]
[null,null,null,"（積立限度額）",null,null,null,null,null,null,null,null,null,null,null,null,null,null,null,null,null,null,null,null,{"$f":"'変更申込書（金融機関等用）'!Y37:Y38","v":"□"},"年金支払開始日",null,null,null,null,null,null,{"$f":"'変更申込書（金融機関等用）'!AG37:AM38","v":""},null,null,null,null,null,null,"(満",{"$f":"'変更申込書（金融機関等用）'!AO37:AP38","v":""},null,"歳)",{"$f":"'変更申込書（金融機関等用）'!AR37:AX38","v":""},null,null,null,null,null,null,"(満",{"$f":"'変更申込書（金融機関等用）'!AZ37:BA38","v":""},null,"歳)"]
[null,"積　立　額",{"$f":"'変更申込書（金融機関等用）'!C38:C39","v":"□"},"俸　　　　給",null,null,null,null,null,null,{"$f":"'変更申込書（金融機関等用）'!K38:K39","v":""},{"$f":"'変更申込書（金融機関等用）'!L38:L39","v":""},{"$f":"'変更申込書（金融機関等用）'!M38:M39","v":""},{"$f":"'変更申込書（金融機関等用）'!N38:N39","v":""},"千円",null,null,{"$f":"'変更申込書（金融機関等用）'!R38:R39","v":""},{"$f":"'変更申込書（金融機関等用）'!S38:S39","v":""},{"$f":"'変更申込書（金融機関等用）'!T38:T39","v":""},{"$f":"'変更申込書（金融機関等用）'!U38:U39","v":""},"千円"]
[null,null,null,null,null,null,null,null,null,null,null,null,null,null,null,null,null,null,null,null,null,null,null,null,{"$f":"'変更申込書（金融機関等用）'!Y39:Y40","v":"□"},"年 金 支 払 期 間",null,null,null,null,null,null,{"$f":"'変更申込書（金融機関等用）'!$AG$39:$AI$40","v":""},null,null,"年間（",null,null,{"$f":"'変更申込書（金融機関等用）'!$AM$39:$AO$40","v":""},null,null,"回）",null,{"$f":"'変更申込書（金融機関等用）'!$AR$39:$AT$40","v":""},null,null,"年間（",null,null,{"$f":"'変更申込書（金融機関等用）'!$AX$39:$AZ$40","v":""},null,null,"回）"]
[null,null,null,"　　変更時期",null,null,null,null,null,null,"令和",null,{"$f":"'変更申込書（金融機関等用）'!$M$40:$N$40","v":""},null,"年",{"$f":"'変更申込書（金融機関等用）'!P40:Q40","v":""},null,"月分から"]
[null,null,null,"期末(",null,{"$f":"'変更申込書（金融機関等用）'!F41:F42","v":"□"},"６月期)",null,null,null,{"$f":"'変更申込書（金融機関等用）'!K41:K42","v":""},{"$f":"'変更申込書（金融機関等用）'!L41:L42","v":""},{"$f":"'変更申込書（金融機関等用）'!M41:M42","v":""},{"$f":"'変更申込書（金融機関等用）'!N41:N42","v":""},"千円",null,null,{"$f":"'変更申込書（金融機関等用）'!R41:R42","v":""},{"$f":"'変更申込書（金融機関等用）'!S41:S42","v":""},{"$f":"'変更申込書（金融機関等用）'!T41:T42","v":""},{"$f":"'変更申込書（金融機関等用）'!U41:U42","v":""},"千円",null,null,{"$f":"'変更申込書（金融機関等用）'!Y41:Y42","v":"□"},"ゆうちょ銀行の財\n形年金の支払期間",null,null,null,null,null,null,"令和",null,{"$f":"'変更申込書（金融機関等用）'!AI41","v":""},"年",{"$f":"'変更申込書（金融機関等用）'!AK41:AL41","v":""},null,"月から",null,{"$f":"'変更申込書（金融機関等用）'!AO41:AP41","v":""},null,"年","令和",null,{"$f":"'変更申込書（金融機関等用）'!AT41","v":""},"年",{"$f":"'変更申込書（金融機関等用）'!AV41:AW41","v":""},null,"月から",null,{"$f":"'変更申込書（金融機関等用）'!AZ41:BA41","v":""},null,"年"]
[null,null,null,null,null,null,null,null,null,null,null,null,null,null,null,null,null,null,null,null,null,null,null,null,null,null,null,null,null,null,null,null,{"$f":"'変更申込書（金融機関等用）'!AG42:AH42","v":""},null,"月まで",null,{"$f":"'変更申込書（金融機関等用）'!AK42:AL42","v":""},null,"年",{"$f":"'変更申込書（金融機関等用）'!AN42:AO42","v":""},null,"月間",null,{"$f":"'変更申込書（金融機関等用）'!AR42:AS42","v":""},null,"月まで",null,{"$f":"'変更申込書（金融機関等用）'!AV42:AW42","v":""},null,"年",{"$f":"'変更申込書（金融機関等用）'!AY42:AZ42","v":""},null,"月間"]
[null,null,null,"手当(",null,{"$f":"'変更申込書（金融機関等用）'!F43:F44","v":"□"},"12月期)",null,null,null,{"$f":"'変更申込書（金融機関等用）'!K43:K44","v":""},{"$f":"'変更申込書（金融機関等用）'!L43:L44","v":""},{"$f":"'変更申込書（金融機関等用）'!M43:M44","v":""},{"$f":"'変更申込書（金融機関等用）'!N43:N44","v":""},"千円",null,null,{"$f":"'変更申込書（金融機関等用）'!R43:R44","v":""},{"$f":"'変更申込書（金融機関等用）'!S43:S44","v":""},{"$f":"'変更申込書（金融機関等用）'!T43:T44","v":""},{"$f":"'変更申込書（金融機関等用）'!U43:U44","v":""},"千円",null,null,{"$f":"'変更申込書（金融機関等用）'!Y43:Y47","v":"□"},"年金の支払方法",null,null,null,null,null,null,{"$f":"'変更申込書（金融機関等用）'!AG43","v":"□"},"定額方式",null,null,{"$f":"'変更申込書（金融機関等用）'!AK43","v":"□"},"逓増方式",null,null,null,null,null,{"$f":"'変更申込書（金融機関等用）'!AR43","v":"□"},"定額方式",null,null,{"$f":"'変更申込書（金融機関等用）'!AV43","v":"□"},"逓増方式"]
[null,null,null,null,null,null,null,null,null,null,null,null,null,null,null,null,null,null,null,null,null,null,null,null,null,null,null,null,null,null,null,null,{"$f":"'変更申込書（金融機関等用）'!AG44","v":"□"},"定額逓増方式（損害保険）",null,null,null,null,null,null,null,null,null,{"$f":"'変更申込書（金融機関等用）'!AR44","v":"□"},"定額逓増方式（損害保険）"]
[null,null,null,"　　変更時期",null,null,null,null,null,null,"令和",null,{"$f":"'変更申込書（金融機関等用）'!$M$45:$N$45","v":""},null,"年",{"$f":"'変更申込書（金融機関等用）'!$P$45:$Q$45","v":""},null,"月分から",null,null,null,null,null,null,null,null,null,null,null,null,null,null,null,"（生命保険）",null,null,null,null,null,null,null,null,null,null,"（生命保険）"]
[null,{"$f":"'変更申込書（金融機関等用）'!B46:B47","v":"□"},"積立の中断・再開",null,null,null,"俸　　給",null,null,null,{"$f":"'変更申込書（金融機関等用）'!K46","v":"□"},"中断",null,{"$f":"'変更申込書（金融機関等用）'!N46","v":"□"},"再開",null,"令和",null,{"$f":"'変更申込書（金融機関等用）'!$S$46","v":""},"年",{"$f":"'変更申込書（金融機関等用）'!$U$46:$V$46","v":""},null,"月から",null,null,null,null,null,null,null,null,null,null,{"$f":"'変更申込書（金融機関等用）'!AH46","v":"□"},"確定年金（",null,null,{"$f":"'変更申込書（金融機関等用）'!AL46:AM46","v":""},null,"年）",null,null,null,null,{"$f":"'変更申込書（金融機関等用）'!AS46","v":"□"},"確定年金（",null,null,{"$f":"'変更申込書（金融機関等用）'!AW46:AX46","v":""},null,"年）"]
[null,null,null,null,null,null,"期末手当",null,null,null,{"$f":"'変更申込書（金融機関等用）'!K47","v":"□"},"中断",null,{"$f":"'変更申込書（金融機関等用）'!N47","v":"□"},"再開",null,"令和",null,{"$f":"'変更申込書（金融機関等用）'!$S$47","v":""},"年",{"$f":"'変更申込書（金融機関等用）'!$U$47:$V$47","v":""},null,"月から",null,null,null,null,null,null,null,null,null,null,{"$f":"'変更申込書（金融機関等用）'!AH47","v":"□"},"終身年金（",null,null,{"$f":"'変更申込書（金融機関等用）'!AL47","v":"□"},"定額",null,{"$f":"'変更申込書（金融機関等用）'!AO47","v":"□"},"逓増）",null,null,{"$f":"'変更申込書（金融機関等用）'!AS47","v":"□"},"終身年金（",null,null,{"$f":"'変更申込書（金融機関等用）'!AW47","v":"□"},"定額",null,{"$f":"'変更申込書（金融機関等用）'!AZ47","v":"□"},"逓増）"]
[null,{"$f":"'変更申込書（金融機関等用）'!B48","v":"□"},"保　険　期　間",null,null,null,null,null,null,null,{"$f":"'変更申込書（金融機関等用）'!$K$48:$M$48","v":""},null,null,"年",null,null,null,{"$f":"'変更申込書（金融機関等用）'!$R$48:$T$48","v":""},null,null,"年",null,null,null,{"$f":"'変更申込書（金融機関等用）'!Y48","v":"□"},"年金の支払回数",null,null,null,null,null,null,{"$f":"'変更申込書（金融機関等用）'!AG48:AH48","v":""},null,"年",{"$f":"'変更申込書（金融機関等用）'!$AJ$48:$AL$48","v":""},null,null,"回",null,null,null,null,{"$f":"'変更申込書（金融機関等用）'!AR48:AS48","v":""},null,"年",{"$f":"'変更申込書（金融機関等用）'!$AU$48:$AW$48","v":""},null,null,"回"]
[null,null,null,null,null,null,null,null,null,null,null,null,null,null,{"$f":"'変更申込書（金融機関等用）'!O49:V52","v":"限度額変更・異動・勤務先異動"}]
["財産形成非課税",null,null,null,null,null,null,{"$f":"'変更申込書（金融機関等用）'!H50:L51","v":"年金・住宅"},null,null,null,null,"貯蓄",null,null,null,null,null,null,null,null,null,"申告書",null,null,"（勤務先控）",null,null,null,null,null,null,null,null,null,"種　別",null,null,{"$f":"'変更申込書（金融機関等用）'!AM50","v":"□"},"預　　貯　　金",null,null,null,null,null,"改印の場合にはこちらにも押印してください。"]
[null,null,null,null,null,null,null,null,null,null,null,null,null,null,null,null,null,null,null,null,null,null,null,null,null,null,null,null,null,null,null,null,null,null,null,null,null,null,{"$f":"'変更申込書（金融機関等用）'!AM51","v":"□"},"合 同 運 用 信 託",null,null,null,null,null,null,null,null,null,"新印鑑"]
[null,null,null,null,null,null,null,null,null,null,null,null,null,null,null,null,null,null,null,null,null,null,null,null,null,null,null,null,null,null,null,null,null,null,null,null,null,null,{"$f":"'変更申込書（金融機関等用）'!AM52","v":"□"},"有　価　証　券"]
[null,null,null,null,null,null,null,null,null,null,null,null,null,null,null,null,null,null,null,null,null,null,null,null,null,null,null,null,null,null,null,null,null,null,null,null,null,null,{"$f":"'変更申込書（金融機関等用）'!AM53","v":"□"},"生命・損害保険の保険料"]
[null,null,null,null,null,null,null,"税　務　署　長　殿",null,null,null,null,null,null,null,null,null,null,null,null,null,null,null,null,null,null,null,null,null,{"$f":"'変更申込書（金融機関等用）'!AD54:AI54","v":"　　年　　月　　日"}]
[null,"ふりがな",null,null,null,null,null,null,null,null,null,null,null,null,null,null,null,null,null,"個人番号（異動・勤務先異動の場合に記入）",null,null,null,null,null,null,null,null,null,null,null,null,null,null,null,null,"※欄に記載した事項は、勤務先の長により事実に相違ないことを確認しました。"]
[null,"氏　　名",null,null,null,null,null,null,null,null,null,null,null,null,null,null,null,null,null,{"$f":"'変更申込書（金融機関等用）'!$T$56:$AB$57","v":""}]
[]
[null,"住　　所",null,null,null,{"$f":"'変更申込書（金融機関等用）'!$F$58:$AB$59","v":""}]
[]
[null,null,"次のとおり申告します。",null,null,null,null,null,null,null,null,null,null,null,null,null,null,null,null,null,null,null,null,null,null,null,null,null,null,null,null,null,null,null,null,null,"令和　　年　　月　　日"]
[]
["（該当する事項の□の中にレ印を付し、必要事項を記入してください。）",null,"変更事項",null,null,null,null,null,null,"変　　更　　前",null,null,null,null,null,null,null,null,null,null,null,null,null,"変　　更　　後",null,null,null,null,null,null,null,null,null,null,null,null,null,"異　動　の\n生 じ た 日\n（年・月・日）"]
[null,null,{"$f":"'変更申込書（金融機関等用）'!C63:C65","v":"□"},"最高限度額",null,null,null,null,null,"百万",null,null,null,null,null,"千",null,null,null,null,null,"円",null,"百万",null,null,null,null,null,"千",null,null,null,null,null,"円"]
[null,null,null,null,null,null,null,null,null,{"$f":"'変更申込書（金融機関等用）'!J64","v":""},null,{"$f":"'変更申込書（金融機関等用）'!L64","v":""},null,{"$f":"'変更申込書（金融機関等用）'!N64","v":""},null,{"$f":"'変更申込書（金融機関等用）'!P64","v":""},null,{"$f":"'変更申込書（金融機関等用）'!R64","v":""},null,{"$f":"'変更申込書（金融機関等用）'!T64","v":""},null,{"$f":"'変更申込書（金融機関等用）'!V64","v":""},null,{"$f":"'変更申込書（金融機関等用）'!X64","v":""},null,{"$f":"'変更申込書（金融機関等用）'!Z64","v":""},null,{"$f":"'変更申込書（金融機関等用）'!AB64","v":""},null,{"$f":"'変更申込書（金融機関等用）'!AD64","v":""},null,{"$f":"'変更申込書（金融機関等用）'!AF64","v":""},null,{"$f":"'変更申込書（金融機関等用）'!AH64","v":""},null,{"$f":"'変更申込書（金融機関等用）'!AJ64","v":""}]
[null,null,null,null,null,null,null,null,null,"※既に非課税扱いの申告をしている最高限度額の合計額"]
[null,null,{"$f":"'変更申込書（金融機関等用）'!C66","v":"□"},{"$f":"'変更申込書（金融機関等用）'!D66:I66","v":"氏 名・店 舗"},null,null,null,null,null,{"$f":"'変更申込書（金融機関等用）'!J66:W66","v":""},null,null,null,null,null,null,null,null,null,null,null,null,null,{"$f":"'変更申込書（金融機関等用）'!X66:AK66","v":""},null,null,null,null,null,null,null,null,null,null,null,null,null,{"$f":"'変更申込書（金融機関等用）'!AL66:AM66","v":""},null,{"$f":"'変更申込書（金融機関等用）'!AN66","v":""},"・",{"$f":"'変更申込書（金融機関等用）'!AP66","v":""},"・",{"$f":"'変更申込書（金融機関等用）'!AR66","v":""}]
[null,null,{"$f":"'変更申込書（金融機関等用）'!C67","v":"□"},"住　　  　所",null,null,null,null,null,{"$f":"'変更申込書（金融機関等用）'!J67:W67","v":""},null,null,null,null,null,null,null,null,null,null,null,null,null,{"$f":"'変更申込書（金融機関等用）'!X67:AK67","v":""},null,null,null,null,null,null,null,null,null,null,null,null,null,{"$f":"'変更申込書（金融機関等用）'!AL67:AM67","v":""},null,{"$f":"'変更申込書（金融機関等用）'!AN67","v":""},"・",{"$f":"'変更申込書（金融機関等用）'!AP67","v":""},"・",{"$f":"'変更申込書（金融機関等用）'!AR67","v":""}]
[null,null,{"$f":"'変更申込書（金融機関等用）'!C68","v":"□"},"個  人  番  号",null,null,null,null,null,{"$f":"'変更申込書（金融機関等用）'!J68:W68","v":""},null,null,null,null,null,null,null,null,null,null,null,null,null,{"$f":"'変更申込書（金融機関等用）'!X68:AK68","v":""},null,null,null,null,null,null,null,null,null,null,null,null,null,{"$f":"'変更申込書（金融機関等用）'!AL68:AM68","v":""},null,{"$f":"'変更申込書（金融機関等用）'!AN68","v":""},"・",{"$f":"'変更申込書（金融機関等用）'!AP68","v":""},"・",{"$f":"'変更申込書（金融機関等用）'!AR68","v":""}]
[null,null,{"$f":"'変更申込書（金融機関等用）'!C69:C70","v":"□"},"勤務先",null,null,"所在地",null,null,{"$f":"'変更申込書（金融機関等用）'!J69:W69","v":""},null,null,null,null,null,null,null,null,null,null,null,null,null,{"$f":"'変更申込書（金融機関等用）'!X69:AK69","v":""},null,null,null,null,null,null,null,null,null,null,null,null,null,{"$f":"'変更申込書（金融機関等用）'!AL69:AM69","v":""},null,{"$f":"'変更申込書（金融機関等用）'!AN69","v":""},"・",{"$f":"'変更申込書（金融機関等用）'!AP69","v":""},"・",{"$f":"'変更申込書（金融機関等用）'!AR69","v":""}]
[null,null,null,null,null,null,"名　称",null,null,{"$f":"'変更申込書（金融機関等用）'!J70:W70","v":""},null,null,null,null,null,null,null,null,null,null,null,null,null,{"$f":"'変更申込書（金融機関等用）'!X70:AK70","v":""},null,null,null,null,null,null,null,null,null,null,null,null,null,{"$f":"'変更申込書（金融機関等用）'!AL70:AM70","v":""},null,{"$f":"'変更申込書（金融機関等用）'!AN70","v":""},"・",{"$f":"'変更申込書（金融機関等用）'!AP70","v":""},"・",{"$f":"'変更申込書（金融機関等用）'!AR70","v":""}]
[null,null,{"$f":"'変更申込書（金融機関等用）'!C71:C73","v":"□"},"賃金の\n支払者",null,null,"所在地",null,null,{"$f":"'変更申込書（金融機関等用）'!J71:W71","v":""},null,null,null,null,null,null,null,null,null,null,null,null,null,{"$f":"'変更申込書（金融機関等用）'!X71:AK71","v":""},null,null,null,null,null,null,null,null,null,null,null,null,null,{"$f":"'変更申込書（金融機関等用）'!AL71:AM71","v":""},null,{"$f":"'変更申込書（金融機関等用）'!AN71","v":""},"・",{"$f":"'変更申込書（金融機関等用）'!AP71","v":""},"・",{"$f":"'変更申込書（金融機関等用）'!AR71","v":""}]
[null,null,null,null,null,null,"名　称",null,null,{"$f":"'変更申込書（金融機関等用）'!J72:W72","v":""},null,null,null,null,null,null,null,null,null,null,null,null,null,{"$f":"'変更申込書（金融機関等用）'!X72:AK72","v":""},null,null,null,null,null,null,null,null,null,null,null,null,null,{"$f":"'変更申込書（金融機関等用）'!AL72:AM72","v":""},null,{"$f":"'変更申込書（金融機関等用）'!AN72","v":""},"・",{"$f":"'変更申込書（金融機関等用）'!AP72","v":""},"・",{"$f":"'変更申込書（金融機関等用）'!AR72","v":""}]
[null,null,null,null,null,null,"法人番号",null,null,{"$f":"'変更申込書（金融機関等用）'!J73:W73","v":""},null,null,null,null,null,null,null,null,null,null,null,null,null,{"$f":"'変更申込書（金融機関等用）'!X73:AK73","v":""},null,null,null,null,null,null,null,null,null,null,null,null,null,{"$f":"'変更申込書（金融機関等用）'!AL73:AM73","v":""},null,{"$f":"'変更申込書（金融機関等用）'!AN73","v":""},"・",{"$f":"'変更申込書（金融機関等用）'!AP73","v":""},"・",{"$f":"'変更申込書（金融機関等用）'!AR73","v":""}]
[null,null,"□","事　務\n代行先",null,null,"所在地",null,null,{"$f":"IF('変更申込書（金融機関等用）'!J74:S74=\"\",\"\",'変更申込書（金融機関等用）'!J74:S74)","v":""},null,null,null,null,null,null,null,null,null,null,null,null,null,{"$f":"IF('変更申込書（金融機関等用）'!X74:AG74=\"\",\"\",'変更申込書（金融機関等用）'!X74:AG74)","v":""}]
[null,null,null,null,null,null,"名　称",null,null,{"$f":"IF('変更申込書（金融機関等用）'!J75:S75=\"\",\"\",'変更申込書（金融機関等用）'!J75:S75)","v":""},null,null,null,null,null,null,null,null,null,null,null,null,null,{"$f":"IF('変更申込書（金融機関等用）'!X75:AG75=\"\",\"\",'変更申込書（金融機関等用）'!X75:AG75)","v":""}]
[null,null,null,null,null,null,"法人番号",null,null,{"$f":"IF('変更申込書（金融機関等用）'!J76:S76=\"\",\"\",'変更申込書（金融機関等用）'!J76:S76)","v":""},null,null,null,null,null,null,null,null,null,null,null,null,null,{"$f":"IF('変更申込書（金融機関等用）'!X76:AG76=\"\",\"\",'変更申込書（金融機関等用）'!X76:AG76)","v":""}]
[]
[null,null,"受入機関の\n営業所等",null,null,null,null,"所在地"]
[null,null,null,null,null,null,null,"名　称",null,null,null,null,null,null,null,null,null,null,null,"法人番号",null,null,5010001112730]

{"sheet":"変更申込書（加入者控）","index":3,"n_rows":79,"n_cols":55,"rows_kept":79,"cut":false,"hidden":false,"merged":[[4,44,6,52],[5,11,5,16],[5,27,5,40],[15,21,16,21],[16,22,16,25],[1,14,1,18],[1,20,3,29],[1,30,3,36],[2,14,2,18],[3,14,3,18],[4,11,4,16],[4,27,4,40],[15,5,16,11],[15,12,16,12],[8,1,9,4],[8,20,9,21],[8,47,9,53],[10,54,24,54],[11,1,12,4],[11,5,12,21],[11,22,12,25],[11,26,12,27],[11,28,12,29],[11,30,12,31],[11,32,12,33],[11,34,12,35],[11,36,12,37],[15,13,16,13],[15,14,16,14],[11,38,12,39],[11,40,12,41],[11,42,12,43],[11,44,12,45],[11,46,12,48],[11,49,11,53],[12,49,15,53],[27,4,27,8],[27,25,27,29],[28,2,28,8],[28,9,28,22],[16,26,16,53],[17,1,18,4],[17,5,18,21],[17,22,20,25],[17,27,17,34],[18,26,20,53],[19,1,20,8],[19,9,20,21],[15,15,16,15],[15,16,16,16],[15,17,16,17],[15,18,16,18],[15,19,16,19],[15,20,16,20],[13,1,16,4],[13,5,14,21],[13,22,13,25],[13,26,13,48],[14,22,15,25],[14,26,15,48],[33,43,33,53],[29,15,29,16],[29,17,29,21],[29,26,29,29],[31,1,32,4],[31,5,31,16],[32,5,32,16],[21,22,22,25],[21,26,22,53],[24,1,29,1],[24,4,24,8],[24,25,24,29],[24,50,24,53],[25,4,25,8],[25,25,25,29],[21,1,22,4],[21,5,22,10],[21,11,22,11],[21,12,22,14],[21,15,22,15],[21,16,22,19],[25,49,25,53],[26,6,26,8],[26,49,29,53],[37,2,38,2],[37,3,38,9],[37,10,38,10],[37,11,38,11],[37,12,38,12],[37,13,38,13],[37,14,38,16],[37,17,38,17],[42,3,43,4],[34,3,35,7],[34,8,36,9],[34,24,35,24],[34,25,35,31],[35,18,36,18],[35,19,36,19],[35,20,36,20],[35,21,36,21],[35,23,36,23],[36,3,36,7],[36,24,37,24],[36,25,37,31],[34,51,35,52],[34,53,35,53],[35,10,36,10],[35,11,36,11],[35,12,36,12],[35,13,36,13],[35,14,36,14],[35,15,36,15],[35,16,36,16],[35,17,36,17],[34,32,35,38],[34,39,35,39],[34,40,35,41],[34,42,35,42],[34,43,35,49],[34,50,35,50],[36,53,37,53],[36,39,37,39],[36,40,37,41],[36,42,37,42],[36,43,37,49],[36,50,37,50],[36,51,37,52],[35,22,36,22],[38,49,39,51],[38,52,39,53],[39,3,39,9],[39,10,39,11],[39,12,39,13],[39,15,39,16],[39,17,39,19],[38,24,39,24],[38,25,39,31],[38,32,39,34],[38,35,39,37],[38,38,39,40],[38,41,39,42],[37,20,38,20],[37,21,38,23],[40,49,40,50],[40,51,40,52],[41,32,41,33],[41,34,41,35],[41,36,41,37],[41,39,41,40],[41,41,41,42],[40,32,40,33],[40,36,40,37],[40,38,40,39],[41,43,41,44],[41,45,41,46],[41,47,41,48],[41,50,41,51],[41,52,41,53],[40,40,40,41],[40,43,40,44],[40,47,40,48],[46,49,46,50],[45,6,45,9],[45,11,45,12],[45,14,45,15],[45,16,45,17],[45,20,45,21],[45,22,45,23],[45,34,45,36],[42,44,42,46],[42,48,42,50],[43,33,43,40],[43,44,43,51],[44,3,44,9],[44,10,44,11],[44,12,44,13],[44,15,44,16],[44,17,44,19],[44,33,44,36],[42,20,43,20],[42,21,43,23],[42,24,46,24],[42,25,46,31],[42,33,42,35],[42,37,42,39],[46,52,46,53],[47,2,47,9],[47,10,47,12],[47,14,47,16],[47,17,47,19],[47,21,47,23],[47,25,47,31],[50,49,50,53],[51,49,54,53],[47,32,47,33],[47,35,47,37],[47,43,47,44],[47,46,47,48],[49,25,50,27],[45,2,46,5],[45,45,45,47],[45,48,45,49],[46,6,46,9],[46,11,46,12],[46,14,46,15],[46,34,46,36],[46,38,46,39],[46,41,46,42],[46,45,46,47],[61,0,75,1],[61,2,61,8],[52,1,53,6],[54,1,54,4],[54,5,54,18],[55,1,56,4],[55,5,56,18],[66,3,66,8],[68,2,69,2],[68,3,69,5],[71,6,71,8],[72,6,72,8],[68,6,68,8],[65,3,65,8],[69,6,69,8],[66,9,66,22],[68,9,68,22],[69,9,69,22],[70,9,70,22],[71,9,71,22],[72,9,72,22],[57,1,58,4],[67,3,67,8],[67,9,67,22],[34,1,35,1],[34,2,35,2],[8,5,9,19],[77,2,78,6],[77,7,77,9],[78,7,78,9],[62,2,64,2],[62,3,64,8],[40,21,41,23],[46,16,46,17],[46,20,46,21],[46,22,46,23],[40,13,41,13],[40,14,41,16],[40,17,41,17],[40,18,41,18],[75,6,75,8],[73,2,75,2],[73,3,75,5],[73,6,73,8],[74,6,74,8],[70,2,72,2],[70,3,72,5],[70,6,70,8],[48,14,51,21],[49,0,50,6],[49,7,50,11],[49,12,50,13],[49,22,50,24],[45,1,46,1],[40,19,41,19],[40,20,41,20],[42,5,43,5],[42,6,43,9],[42,10,43,10],[42,11,43,11],[40,3,41,4],[40,5,41,5],[40,6,41,9],[40,10,41,10],[40,11,41,11],[40,24,41,24],[42,12,43,12],[42,13,43,13],[42,14,43,16],[42,17,43,17],[42,18,43,18],[37,1,44,1],[49,45,54,48],[49,39,49,43],[50,39,50,43],[51,39,51,43],[52,39,52,43],[61,37,64,43],[24,9,24,22],[25,9,26,22],[27,9,27,22],[40,25,41,31],[45,37,45,38],[42,19,43,19],[44,44,44,47],[36,32,37,38],[37,18,38,18],[37,19,38,19],[40,12,41,12],[38,43,39,45],[38,46,39,48],[33,1,33,9],[33,10,33,16],[33,17,33,23],[33,24,33,31],[33,32,33,42],[65,37,65,38],[66,37,66,38],[68,37,68,38],[69,37,69,38],[70,37,70,38],[71,37,71,38],[72,37,72,38],[73,37,73,43],[74,37,74,43],[67,37,67,38],[75,37,75,43],[53,29,53,34],[57,5,58,34],[55,19,56,34],[54,19,54,34],[54,36,58,43],[59,36,59,43],[49,35,52,37],[61,9,61,22],[61,23,61,36],[62,11,62,12],[63,11,63,12],[62,9,62,10],[63,9,63,10],[62,13,62,14],[62,15,62,16],[62,17,62,18],[62,19,62,20],[62,21,62,22],[62,23,62,24],[62,25,62,26],[62,27,62,28],[62,29,62,30],[62,31,62,32],[62,33,62,34],[62,35,62,36],[63,13,63,14],[63,15,63,16],[63,17,63,18],[63,19,63,20],[63,21,63,22],[63,23,63,24],[63,25,63,26],[63,27,63,28],[63,29,63,30],[63,31,63,32],[63,33,63,34],[63,35,63,36],[64,23,64,24],[64,25,64,26],[64,27,64,28],[64,29,64,30],[64,31,64,32],[64,33,64,34],[64,35,64,36],[65,9,65,22],[67,23,67,36],[77,10,77,29],[78,10,78,18],[78,22,78,29],[29,4,29,6],[29,7,29,8],[29,9,29,13],[24,30,24,47],[25,30,26,47],[27,30,28,47],[29,30,29,47],[73,9,73,22],[74,9,74,22],[75,9,75,22],[65,23,65,36],[66,23,66,36],[68,23,68,36],[69,23,69,36],[70,23,70,36],[71,23,71,36],[72,23,72,36],[73,23,73,36],[74,23,74,36],[75,23,75,36],[64,9,64,22]]}
["（国家公務員用）"]
[null,null,null,null,null,null,null,null,null,null,null,null,null,{"$f":"'変更申込書（勤務先用）'!T2","v":"□"},"財  産  形  成",null,null,null,null,null,"貯蓄変更申込書",null,null,null,null,null,null,null,null,null,"（兼印鑑変更届）"]
[null,null,null,null,null,null,null,null,null,null,null,null,null,{"$f":"'変更申込書（勤務先用）'!T3","v":"□"},"財産形成年金"]
[null,null,null,null,null,null,null,null,null,null,null,null,null,{"$f":"'変更申込書（勤務先用）'!T4","v":"□"},"財産形成住宅"]
[null,null,null,null,null,null,null,null,null,null,null,{"$f":"'変更申込書（金融機関等用）'!L5:Q5","v":"財産形成非課税年金"},null,null,null,null,null,null,null,null,null,null,null,null,null,null,null,{"$f":"'変更申込書（金融機関等用）'!AB5:AO5","v":"財産形成年金貯蓄につき租特法第４条の３第１項"},null,null,null,null,null,null,null,null,null,null,null,null,null,null,null,null,"財産貯蓄非課税限度額を変更する者のみ該当します。"]
[null,null,null,null,null,null,null,null,null,"兼",null,{"$f":"'変更申込書（金融機関等用）'!L6:Q6","v":"財産形成非課税住宅"},null,null,null,null,null,null,"貯蓄申込書",null,null,null,"下記の金額の",null,null,null,null,{"$f":"'変更申込書（金融機関等用）'!AB6:AO6","v":"財産形成住宅貯蓄につき租特法第４条の２第１項"},null,null,null,null,null,null,null,null,null,null,null,null,null,null,null,"ー"]
[null,null,null,null,null,null,null,null,null,null,null,null,null,null,null,null,null,null,null,null,null,null,"の規定の適用を受けたいので、この旨申告します。"]
[null,null,null,"私は、貴行（社・金庫・組合）との間に締結した財産形成貯蓄、財産形成年金貯蓄又は財産形成住宅貯蓄契約につき、積立終了日までに下記のとおり変更したいので、この旨申し込みます。"]
[null,"取扱金融\n機 関 等",null,null,null,{"$f":"'変更申込書（勤務先用）'!F9:P10","v":0},null,null,null,null,null,null,null,null,null,null,null,null,null,null,"御中",null,null,null,null,null,null,null,null,null,null,null,null,null,null,null,null,null,null,null,null,null,null,null,null,null,null,{"$f":"'変更申込書（勤務先用）'!AV9:BB10","v":"2024-08-22"}]
[]
[null,null,null,null,null,null,null,null,null,null,null,null,null,null,null,null,null,null,null,null,null,null,null,null,null,null,null,null,null,null,null,null,null,null,null,null,null,null,null,null,null,null,null,null,null,null,null,null,null,null,null,null,null,null,"改印する場合は新印章を押印してください。"]
[null,"勤  務  先",null,null,null,{"$f":"'変更申込書（勤務先用）'!F12:V13","v":0},null,null,null,null,null,null,null,null,null,null,null,null,null,null,null,null,"職 員 番 号",null,null,null,null,null,null,null,null,null,null,null,null,null,null,null,null,null,null,null,null,null,null,null,null,null,null,"お届出印"]
[]
[null,"所属部課\n同  番  号",null,null,null,null,null,null,null,null,null,null,null,null,null,null,null,null,null,null,null,null,"ふりがな"]
[null,null,null,null,null,null,null,null,null,null,null,null,null,null,null,null,null,null,null,null,null,null,"氏　    名"]
[]
[null,null,null,null,null,null,null,null,null,null,null,null,null,null,null,null,null,null,null,null,null,null,"ふりがな",null,null,null,{"$f":"'変更申込書（勤務先用）'!AA17:BB17","v":0}]
[null,"所  在  地",null,null,null,{"$f":"'変更申込書（勤務先用）'!F18:V19","v":{"$error":"#N/A"}},null,null,null,null,null,null,null,null,null,null,null,null,null,null,null,null,"住　    所",null,null,null,"(〒",{"$f":"'変更申込書（勤務先用）'!AB18:AI18","v":0},null,null,null,null,null,null,null,")"]
[null,null,null,null,null,null,null,null,null,null,null,null,null,null,null,null,null,null,null,null,null,null,null,null,null,null,{"$f":"'変更申込書（勤務先用）'!AA19:BB21","v":0}]
[null,"法人番号\n（年金・住宅貯蓄の場合に記入）",null,null,null,null,null,null,null,{"$f":"'変更申込書（勤務先用）'!J20:V21","v":""}]
[]
[null,"生年月日",null,null,null,{"$f":"'変更申込書（勤務先用）'!F22:K23","v":"00:00:00"},null,null,null,null,null,"(満",{"$f":"'変更申込書（勤務先用）'!M22:O23","v":124},null,null,"歳)","男女別",null,null,null,"男","女","電 話 番 号",null,null,null,{"$f":"'変更申込書（勤務先用）'!AA22:BB23","v":0}]
[null,null,null,null,null,null,null,null,null,null,null,null,null,null,null,null,null,null,null,null,{"$f":"'変更申込書（勤務先用）'!U23","v":"□"},{"$f":"'変更申込書（勤務先用）'!V23","v":"□"}]
[]
[null,"変更事項A","＊",{"$f":"'変更申込書（勤務先用）'!D25","v":"□"},"（旧）勤 務 先",null,null,null,null,{"$f":"'変更申込書（勤務先用）'!J25:W25","v":""},null,null,null,null,null,null,null,null,null,null,null,null,null,null,{"$f":"'変更申込書（勤務先用）'!Y25","v":"□"},"（旧）職員番号",null,null,null,null,null,null,null,null,null,null,null,null,null,null,null,null,null,null,null,null,null,null,null,{"$f":"'変更申込書（勤務先用）'!AX25","v":"□"},"印鑑変更"]
[null,null,null,{"$f":"'変更申込書（勤務先用）'!D26","v":"□"},"（旧）所属部課",null,null,null,null,null,null,null,null,null,null,null,null,null,null,null,null,null,null,"＊",{"$f":"'変更申込書（勤務先用）'!Y26","v":"□"},"（旧）氏　　名",null,null,null,null,{"$f":"'変更申込書（勤務先用）'!AE26:AV27","v":""},null,null,null,null,null,null,null,null,null,null,null,null,null,null,null,null,null,null,"（旧印鑑）"]
[null,null,null,null,null,null,"（同番号）"]
[null,null,"＊",{"$f":"'変更申込書（勤務先用）'!D28","v":"□"},"（旧）所 在 地",null,null,null,null,{"$f":"'変更申込書（勤務先用）'!J28:W28","v":""},null,null,null,null,null,null,null,null,null,null,null,null,null,"＊",{"$f":"'変更申込書（勤務先用）'!Y28","v":"□"},"（旧）住　　所",null,null,null,null,{"$f":"'変更申込書（勤務先用）'!AE28:AV29","v":""}]
[null,null,"勤務先異動日",null,null,null,null,null,null,{"$f":"'変更申込書（勤務先用）'!J29:W29","v":""}]
[null,null,"＊",{"$f":"'変更申込書（勤務先用）'!D30","v":"□"},"店舗",null,null,"変更前",null,{"$f":"'変更申込書（勤務先用）'!J30:N30","v":""},null,null,null,null,"店","変更後",null,{"$f":"'変更申込書（勤務先用）'!R30:V30","v":""},null,null,null,null,"店",null,null,null,"（電話番号）",null,null,null,{"$f":"'変更申込書（勤務先用）'!AE30:AV30","v":""}]
[null,null,null,null,null,null,null,null,null,null,null,null,null,null,null,null,null,null,null,null,null,null,null,null,"財産形成年金貯蓄又は財産形成住宅貯蓄に関する変更の場合で、"]
[null,"貯蓄の種類",null,null,null,{"$f":"'変更申込書（勤務先用）'!F32:Q32","v":""},null,null,null,null,null,null,null,null,null,null,null,null,null,null,null,null,null,null,"＊印のある欄に記入された方は下記の申告書にも記入してください。"]
[null,null,null,null,null,{"$f":"'変更申込書（勤務先用）'!F33:Q33","v":""}]
[null,"変更事項B",null,null,null,null,null,null,null,null,"変　　更　　前",null,null,null,null,null,null,"変　　更　　後",null,null,null,null,null,null,"変更事項B",null,null,null,null,null,null,null,"変　　更　　前",null,null,null,null,null,null,null,null,null,null,"変　　更　　後"]
[null,"＊",{"$f":"'変更申込書（勤務先用）'!C35:C36","v":"□"},"最高限度額",null,null,null,null,"限",null,"百万",null,null,"千",null,null,"円","百万",null,null,"千",null,null,"円",{"$f":"'変更申込書（勤務先用）'!Y35:Y36","v":"□"},"積  立  終  了  日",null,null,null,null,null,null,{"$f":"'変更申込書（勤務先用）'!AG35:AM36","v":""},null,null,null,null,null,null,"(満",{"$f":"'変更申込書（勤務先用）'!AO35:AP36","v":""},null,"歳)",{"$f":"'変更申込書（勤務先用）'!AR35:AX36","v":""},null,null,null,null,null,null,"(満",{"$f":"'変更申込書（勤務先用）'!AZ35:BA36","v":""},null,"歳)"]
[null,null,null,null,null,null,null,null,null,null,{"$f":"'変更申込書（勤務先用）'!K36:K37","v":""},{"$f":"'変更申込書（勤務先用）'!L36:L37","v":""},{"$f":"'変更申込書（勤務先用）'!M36:M37","v":""},{"$f":"'変更申込書（勤務先用）'!N36:N37","v":""},{"$f":"'変更申込書（勤務先用）'!O36:O37","v":""},{"$f":"'変更申込書（勤務先用）'!P36:P37","v":""},{"$f":"'変更申込書（勤務先用）'!Q36:Q37","v":""},{"$f":"'変更申込書（勤務先用）'!R36:R37","v":""},{"$f":"'変更申込書（勤務先用）'!S36:S37","v":""},{"$f":"'変更申込書（勤務先用）'!T36:T37","v":""},{"$f":"'変更申込書（勤務先用）'!U36:U37","v":""},{"$f":"'変更申込書（勤務先用）'!V36:V37","v":""},{"$f":"'変更申込書（勤務先用）'!W36:W37","v":""},{"$f":"'変更申込書（勤務先用）'!X36:X37","v":""}]
[null,null,null,"（積立限度額）",null,null,null,null,null,null,null,null,null,null,null,null,null,null,null,null,null,null,null,null,{"$f":"'変更申込書（勤務先用）'!Y37:Y38","v":"□"},"年金支払開始日",null,null,null,null,null,null,{"$f":"'変更申込書（勤務先用）'!AG37:AM38","v":""},null,null,null,null,null,null,"(満",{"$f":"'変更申込書（勤務先用）'!AO37:AP38","v":""},null,"歳)",{"$f":"'変更申込書（勤務先用）'!AR37:AX38","v":""},null,null,null,null,null,null,"(満",{"$f":"'変更申込書（勤務先用）'!AZ37:BA38","v":""},null,"歳)"]
[null,"積　立　額",{"$f":"'変更申込書（勤務先用）'!C38:C39","v":"□"},"俸　　　　給",null,null,null,null,null,null,{"$f":"'変更申込書（勤務先用）'!K38:K39","v":""},{"$f":"'変更申込書（勤務先用）'!L38:L39","v":""},{"$f":"'変更申込書（勤務先用）'!M38:M39","v":""},{"$f":"'変更申込書（勤務先用）'!N38:N39","v":""},"千円",null,null,{"$f":"'変更申込書（勤務先用）'!R38:R39","v":""},{"$f":"'変更申込書（勤務先用）'!S38:S39","v":""},{"$f":"'変更申込書（勤務先用）'!T38:T39","v":""},{"$f":"'変更申込書（勤務先用）'!U38:U39","v":""},"千円"]
[null,null,null,null,null,null,null,null,null,null,null,null,null,null,null,null,null,null,null,null,null,null,null,null,{"$f":"'変更申込書（勤務先用）'!Y39:Y40","v":"□"},"年 金 支 払 期 間",null,null,null,null,null,null,{"$f":"'変更申込書（勤務先用）'!AG39:AI40","v":""},null,null,"年間（",null,null,{"$f":"'変更申込書（勤務先用）'!AM39:AO40","v":""},null,null,"回）",null,{"$f":"'変更申込書（勤務先用）'!AR39:AT40","v":""},null,null,"年間（",null,null,{"$f":"'変更申込書（勤務先用）'!AX39:AZ40","v":""},null,null,"回）"]
[null,null,null,"　　変更時期",null,null,null,null,null,null,"令和",null,{"$f":"'変更申込書（勤務先用）'!M40:N40","v":""},null,"年",{"$f":"'変更申込書（勤務先用）'!P40:Q40","v":""},null,"月分から"]
[null,null,null,"期末(",null,{"$f":"'変更申込書（勤務先用）'!F41:F42","v":"□"},"６月期)",null,null,null,{"$f":"'変更申込書（勤務先用）'!K41:K42","v":""},{"$f":"'変更申込書（勤務先用）'!L41:L42","v":""},{"$f":"'変更申込書（勤務先用）'!M41:M42","v":""},{"$f":"'変更申込書（勤務先用）'!N41:N42","v":""},"千円",null,null,{"$f":"'変更申込書（勤務先用）'!R41:R42","v":""},{"$f":"'変更申込書（勤務先用）'!S41:S42","v":""},{"$f":"'変更申込書（勤務先用）'!T41:T42","v":""},{"$f":"'変更申込書（勤務先用）'!U41:U42","v":""},"千円",null,null,{"$f":"'変更申込書（勤務先用）'!Y41:Y42","v":"□"},"ゆうちょ銀行の財\n形年金の支払期間",null,null,null,null,null,null,"令和",null,{"$f":"'変更申込書（勤務先用）'!AI41","v":""},"年",{"$f":"'変更申込書（勤務先用）'!AK41:AL41","v":""},null,"月から",null,{"$f":"'変更申込書（勤務先用）'!AO41:AP41","v":""},null,"年","令和",null,{"$f":"'変更申込書（勤務先用）'!AT41","v":""},"年",{"$f":"'変更申込書（勤務先用）'!AV41:AW41","v":""},null,"月から",null,{"$f":"'変更申込書（勤務先用）'!AZ41:BA41","v":""},null,"年"]
[null,null,null,null,null,null,null,null,null,null,null,null,null,null,null,null,null,null,null,null,null,null,null,null,null,null,null,null,null,null,null,null,{"$f":"'変更申込書（勤務先用）'!AG42:AH42","v":""},null,"月まで",null,{"$f":"'変更申込書（勤務先用）'!AK42:AL42","v":""},null,"年",{"$f":"'変更申込書（勤務先用）'!AN42:AO42","v":""},null,"月間",null,{"$f":"'変更申込書（勤務先用）'!AR42:AS42","v":""},null,"月まで",null,{"$f":"'変更申込書（勤務先用）'!AV42:AW42","v":""},null,"年",{"$f":"'変更申込書（勤務先用）'!AY42:AZ42","v":""},null,"月間"]
[null,null,null,"手当(",null,{"$f":"'変更申込書（勤務先用）'!F43:F44","v":"□"},"12月期)",null,null,null,{"$f":"'変更申込書（勤務先用）'!K43:K44","v":""},{"$f":"'変更申込書（勤務先用）'!L43:L44","v":""},{"$f":"'変更申込書（勤務先用）'!M43:M44","v":""},{"$f":"'変更申込書（勤務先用）'!N43:N44","v":""},"千円",null,null,{"$f":"'変更申込書（勤務先用）'!R43:R44","v":""},{"$f":"'変更申込書（勤務先用）'!S43:S44","v":""},{"$f":"'変更申込書（勤務先用）'!T43:T44","v":""},{"$f":"'変更申込書（勤務先用）'!U43:U44","v":""},"千円",null,null,{"$f":"'変更申込書（勤務先用）'!Y43:Y47","v":"□"},"年金の支払方法",null,null,null,null,null,null,{"$f":"'変更申込書（勤務先用）'!AG43","v":"□"},"定額方式",null,null,{"$f":"'変更申込書（勤務先用）'!AK43","v":"□"},"逓増方式",null,null,null,null,null,{"$f":"'変更申込書（勤務先用）'!AR43","v":"□"},"定額方式",null,null,{"$f":"'変更申込書（勤務先用）'!AV43","v":"□"},"逓増方式"]
[null,null,null,null,null,null,null,null,null,null,null,null,null,null,null,null,null,null,null,null,null,null,null,null,null,null,null,null,null,null,null,null,{"$f":"'変更申込書（勤務先用）'!AG44","v":"□"},"定額逓増方式（損害保険）",null,null,null,null,null,null,null,null,null,{"$f":"'変更申込書（勤務先用）'!AR44","v":"□"},"定額逓増方式（損害保険）"]
[null,null,null,"　　変更時期",null,null,null,null,null,null,"令和",null,{"$f":"'変更申込書（勤務先用）'!M45:N45","v":""},null,"年",{"$f":"'変更申込書（勤務先用）'!P45:Q45","v":""},null,"月分から",null,null,null,null,null,null,null,null,null,null,null,null,null,null,null,"（生命保険）",null,null,null,null,null,null,null,null,null,null,"（生命保険）"]
[null,{"$f":"'変更申込書（勤務先用）'!B46:B47","v":"□"},"積立の中断・再開",null,null,null,"俸　　給",null,null,null,{"$f":"'変更申込書（勤務先用）'!K46","v":"□"},"中断",null,{"$f":"'変更申込書（勤務先用）'!N46","v":"□"},"再開",null,"令和",null,{"$f":"'変更申込書（勤務先用）'!S46","v":""},"年",{"$f":"'変更申込書（勤務先用）'!U46:V46","v":""},null,"月から",null,null,null,null,null,null,null,null,null,null,{"$f":"'変更申込書（勤務先用）'!AH46","v":"□"},"確定年金（",null,null,{"$f":"'変更申込書（勤務先用）'!AL46:AM46","v":""},null,"年）",null,null,null,null,{"$f":"'変更申込書（勤務先用）'!AS46","v":"□"},"確定年金（",null,null,{"$f":"'変更申込書（勤務先用）'!AW46:AX46","v":""},null,"年）"]
[null,null,null,null,null,null,"期末手当",null,null,null,{"$f":"'変更申込書（勤務先用）'!K47","v":"□"},"中断",null,{"$f":"'変更申込書（勤務先用）'!N47","v":"□"},"再開",null,"令和",null,{"$f":"'変更申込書（勤務先用）'!S47","v":""},"年",{"$f":"'変更申込書（勤務先用）'!U47:V47","v":""},null,"月から",null,null,null,null,null,null,null,null,null,null,{"$f":"'変更申込書（勤務先用）'!AH47","v":"□"},"終身年金（",null,null,{"$f":"'変更申込書（勤務先用）'!AL47","v":"□"},"定額",null,{"$f":"'変更申込書（勤務先用）'!AO47","v":"□"},"逓増）",null,null,{"$f":"'変更申込書（勤務先用）'!AS47","v":"□"},"終身年金（",null,null,{"$f":"'変更申込書（勤務先用）'!AW47","v":"□"},"定額",null,{"$f":"'変更申込書（勤務先用）'!AZ47","v":"□"},"逓増）"]
[null,{"$f":"'変更申込書（勤務先用）'!B48","v":"□"},"保　険　期　間",null,null,null,null,null,null,null,{"$f":"'変更申込書（勤務先用）'!K48:M48","v":""},null,null,"年",null,null,null,{"$f":"'変更申込書（勤務先用）'!R48:T48","v":""},null,null,"年",null,null,null,{"$f":"'変更申込書（勤務先用）'!Y48","v":"□"},"年金の支払回数",null,null,null,null,null,null,{"$f":"'変更申込書（勤務先用）'!AG48:AH48","v":""},null,"年",{"$f":"'変更申込書（勤務先用）'!AJ48:AL48","v":""},null,null,"回",null,null,null,null,{"$f":"'変更申込書（勤務先用）'!AR48:AS48","v":""},null,"年",{"$f":"'変更申込書（勤務先用）'!AU48:AW48","v":""},null,null,"回"]
[null,null,null,null,null,null,null,null,null,null,null,null,null,null,{"$f":"'変更申込書（勤務先用）'!O49:V52","v":"限度額変更・異動・勤務先異動"}]
["財産形成非課税",null,null,null,null,null,null,{"$f":"'変更申込書（勤務先用）'!H50:L51","v":"年金・住宅"},null,null,null,null,"貯蓄",null,null,null,null,null,null,null,null,null,"申告書",null,null,"（加入者控）",null,null,null,null,null,null,null,null,null,"種　別",null,null,{"$f":"'変更申込書（勤務先用）'!AM50","v":"□"},"預　　貯　　金",null,null,null,null,null,"改印の場合にはこちらにも押印してください。"]
[null,null,null,null,null,null,null,null,null,null,null,null,null,null,null,null,null,null,null,null,null,null,null,null,null,null,null,null,null,null,null,null,null,null,null,null,null,null,{"$f":"'変更申込書（勤務先用）'!AM51","v":"□"},"合 同 運 用 信 託",null,null,null,null,null,null,null,null,null,"新印鑑"]
[null,null,null,null,null,null,null,null,null,null,null,null,null,null,null,null,null,null,null,null,null,null,null,null,null,null,null,null,null,null,null,null,null,null,null,null,null,null,{"$f":"'変更申込書（勤務先用）'!AM52","v":"□"},"有　価　証　券"]
[null,null,null,null,null,null,null,null,null,null,null,null,null,null,null,null,null,null,null,null,null,null,null,null,null,null,null,null,null,null,null,null,null,null,null,null,null,null,{"$f":"'変更申込書（勤務先用）'!AM53","v":"□"},"生命・損害保険の保険料"]
[null,null,null,null,null,null,null,"税　務　署　長　殿",null,null,null,null,null,null,null,null,null,null,null,null,null,null,null,null,null,null,null,null,null,{"$f":"'変更申込書（勤務先用）'!AD54:AI54","v":"　　年　　月　　日"}]
[null,"ふりがな",null,null,null,null,null,null,null,null,null,null,null,null,null,null,null,null,null,"個人番号（異動・勤務先異動の場合に記入）",null,null,null,null,null,null,null,null,null,null,null,null,null,null,null,null,"※欄に記載した事項は、勤務先の長により事実に相違ないことを確認しました。"]
[null,"氏　　名"]
[]
[null,"住　　所",null,null,null,{"$f":"'変更申込書（勤務先用）'!F58:AB59","v":""}]
[]
[null,null,"次のとおり申告します。",null,null,null,null,null,null,null,null,null,null,null,null,null,null,null,null,null,null,null,null,null,null,null,null,null,null,null,null,null,null,null,null,null,"令和　　年　　月　　日"]
[]
["（該当する事項の□の中にレ印を付し、必要事項を記入してください。）",null,"変更事項",null,null,null,null,null,null,"変　　更　　前",null,null,null,null,null,null,null,null,null,null,null,null,null,"変　　更　　後",null,null,null,null,null,null,null,null,null,null,null,null,null,"異　動　の\n生 じ た 日\n（年・月・日）"]
[null,null,{"$f":"'変更申込書（勤務先用）'!C63:C65","v":"□"},"最高限度額",null,null,null,null,null,"百万",null,null,null,null,null,"千",null,null,null,null,null,"円",null,"百万",null,null,null,null,null,"千",null,null,null,null,null,"円"]
[null,null,null,null,null,null,null,null,null,{"$f":"'変更申込書（勤務先用）'!J64","v":""},null,{"$f":"'変更申込書（勤務先用）'!L64","v":""},null,{"$f":"'変更申込書（勤務先用）'!N64","v":""},null,{"$f":"'変更申込書（勤務先用）'!P64","v":""},null,{"$f":"'変更申込書（勤務先用）'!R64","v":""},null,{"$f":"'変更申込書（勤務先用）'!T64","v":""},null,{"$f":"'変更申込書（勤務先用）'!V64","v":""},null,{"$f":"'変更申込書（勤務先用）'!X64","v":""},null,{"$f":"'変更申込書（勤務先用）'!Z64","v":""},null,{"$f":"'変更申込書（勤務先用）'!AB64","v":""},null,{"$f":"'変更申込書（勤務先用）'!AD64","v":""},null,{"$f":"'変更申込書（勤務先用）'!AF64","v":""},null,{"$f":"'変更申込書（勤務先用）'!AH64","v":""},null,{"$f":"'変更申込書（勤務先用）'!AJ64","v":""}]
[null,null,null,null,null,null,null,null,null,"※既に非課税扱いの申告をしている最高限度額の合計額"]
[null,null,{"$f":"'変更申込書（勤務先用）'!C66","v":"□"},{"$f":"'変更申込書（勤務先用）'!D66:I66","v":"氏 名・店 舗"},null,null,null,null,null,{"$f":"'変更申込書（勤務先用）'!J66:W66","v":""},null,null,null,null,null,null,null,null,null,null,null,null,null,{"$f":"'変更申込書（勤務先用）'!X66:AK66","v":""},null,null,null,null,null,null,null,null,null,null,null,null,null,{"$f":"'変更申込書（勤務先用）'!AL66:AM66","v":""},null,{"$f":"'変更申込書（勤務先用）'!AN66","v":""},"・",{"$f":"'変更申込書（勤務先用）'!AP66","v":""},"・",{"$f":"'変更申込書（勤務先用）'!AR66","v":""}]
[null,null,{"$f":"'変更申込書（勤務先用）'!C67","v":"□"},"住　　  　所",null,null,null,null,null,{"$f":"'変更申込書（勤務先用）'!J67:W67","v":""},null,null,null,null,null,null,null,null,null,null,null,null,null,{"$f":"'変更申込書（勤務先用）'!X67:AK67","v":""},null,null,null,null,null,null,null,null,null,null,null,null,null,{"$f":"'変更申込書（勤務先用）'!AL67:AM67","v":""},null,{"$f":"'変更申込書（勤務先用）'!AN67","v":""},"・",{"$f":"'変更申込書（勤務先用）'!AP67","v":""},"・",{"$f":"'変更申込書（勤務先用）'!AR67","v":""}]
[null,null,{"$f":"'変更申込書（勤務先用）'!C68","v":"□"},"個  人  番  号",null,null,null,null,null,{"$f":"'変更申込書（勤務先用）'!J68:W68","v":""},null,null,null,null,null,null,null,null,null,null,null,null,null,{"$f":"'変更申込書（勤務先用）'!X68:AK68","v":""},null,null,null,null,null,null,null,null,null,null,null,null,null,{"$f":"'変更申込書（勤務先用）'!AL68:AM68","v":""},null,{"$f":"'変更申込書（勤務先用）'!AN68","v":""},"・",{"$f":"'変更申込書（勤務先用）'!AP68","v":""},"・",{"$f":"'変更申込書（勤務先用）'!AR68","v":""}]
[null,null,{"$f":"'変更申込書（勤務先用）'!C69:C70","v":"□"},"勤務先",null,null,"所在地",null,null,{"$f":"'変更申込書（勤務先用）'!J69:W69","v":""},null,null,null,null,null,null,null,null,null,null,null,null,null,{"$f":"'変更申込書（勤務先用）'!X69:AK69","v":""},null,null,null,null,null,null,null,null,null,null,null,null,null,{"$f":"'変更申込書（勤務先用）'!AL69:AM69","v":""},null,{"$f":"'変更申込書（勤務先用）'!AN69","v":""},"・",{"$f":"'変更申込書（勤務先用）'!AP69","v":""},"・",{"$f":"'変更申込書（勤務先用）'!AR69","v":""}]
[null,null,null,null,null,null,"名　称",null,null,{"$f":"'変更申込書（勤務先用）'!J70:W70","v":""},null,null,null,null,null,null,null,null,null,null,null,null,null,{"$f":"'変更申込書（勤務先用）'!X70:AK70","v":""},null,null,null,null,null,null,null,null,null,null,null,null,null,{"$f":"'変更申込書（勤務先用）'!AL70:AM70","v":""},null,{"$f":"'変更申込書（勤務先用）'!AN70","v":""},"・",{"$f":"'変更申込書（勤務先用）'!AP70","v":""},"・",{"$f":"'変更申込書（勤務先用）'!AR70","v":""}]
[null,null,{"$f":"'変更申込書（勤務先用）'!C71:C73","v":"□"},"賃金の\n支払者",null,null,"所在地",null,null,{"$f":"'変更申込書（勤務先用）'!J71:W71","v":""},null,null,null,null,null,null,null,null,null,null,null,null,null,{"$f":"'変更申込書（勤務先用）'!X71:AK71","v":""},null,null,null,null,null,null,null,null,null,null,null,null,null,{"$f":"'変更申込書（勤務先用）'!AL71:AM71","v":""},null,{"$f":"'変更申込書（勤務先用）'!AN71","v":""},"・",{"$f":"'変更申込書（勤務先用）'!AP71","v":""},"・",{"$f":"'変更申込書（勤務先用）'!AR71","v":""}]
[null,null,null,null,null,null,"名　称",null,null,{"$f":"'変更申込書（勤務先用）'!J72:W72","v":""},null,null,null,null,null,null,null,null,null,null,null,null,null,{"$f":"'変更申込書（勤務先用）'!X72:AK72","v":""},null,null,null,null,null,null,null,null,null,null,null,null,null,{"$f":"'変更申込書（勤務先用）'!AL72:AM72","v":""},null,{"$f":"'変更申込書（勤務先用）'!AN72","v":""},"・",{"$f":"'変更申込書（勤務先用）'!AP72","v":""},"・",{"$f":"'変更申込書（勤務先用）'!AR72","v":""}]
[null,null,null,null,null,null,"法人番号",null,null,{"$f":"'変更申込書（勤務先用）'!J73:W73","v":""},null,null,null,null,null,null,null,null,null,null,null,null,null,{"$f":"'変更申込書（勤務先用）'!X73:AK73","v":""},null,null,null,null,null,null,null,null,null,null,null,null,null,{"$f":"'変更申込書（勤務先用）'!AL73:AM73","v":""},null,{"$f":"'変更申込書（勤務先用）'!AN73","v":""},"・",{"$f":"'変更申込書（勤務先用）'!AP73","v":""},"・",{"$f":"'変更申込書（勤務先用）'!AR73","v":""}]
[null,null,"□","事　務\n代行先",null,null,"所在地",null,null,{"$f":"'変更申込書（勤務先用）'!J74:S74","v":""},null,null,null,null,null,null,null,null,null,null,null,null,null,{"$f":"'変更申込書（勤務先用）'!X74:AG74","v":""}]
[null,null,null,null,null,null,"名　称",null,null,{"$f":"'変更申込書（勤務先用）'!J75:S75","v":""},null,null,null,null,null,null,null,null,null,null,null,null,null,{"$f":"'変更申込書（勤務先用）'!X75:AG75","v":""}]
[null,null,null,null,null,null,"法人番号",null,null,{"$f":"'変更申込書（勤務先用）'!J76:S76","v":""},null,null,null,null,null,null,null,null,null,null,null,null,null,{"$f":"'変更申込書（勤務先用）'!X76:AG76","v":""}]
[]
[null,null,"受入機関の\n営業所等",null,null,null,null,"所在地"]
[null,null,null,null,null,null,null,"名　称",null,null,null,null,null,null,null,null,null,null,null,"法人番号",null,null,5010001112730]

{"sheet":"リスト","index":4,"n_rows":86,"n_cols":12,"rows_kept":86,"cut":false,"hidden":true,"merged":[]}
["勤務先","所在地","法人番号","貯蓄の種類",null,null,null,null,"取扱金融機関等","勤務先","所在地","法人番号"]
["最高裁判所","東京都千代田区隼町４－２",3000013000001,"期日指定定期預金（反復預入）","（租規第３条の11第１項第１号）","（兼 財産形成非課税年金 貯蓄申込書）","財産形成年金貯蓄につき租特法第４条の３第１項","財産形成年金貯蓄につき租税特別措置法第４条の３第１項","ゆうちょ銀行","最高裁判所","東京都千代田区隼町４－２",3000013000001]
["東京高等裁判所","東京都千代田区霞が関１－１－４",2000013010001,"定額貯金","（租規第３条の11第１項第２号）","（兼 財産形成非課税住宅 貯蓄申込書）","財産形成住宅貯蓄につき租特法第４条の２第１項","財産形成住宅貯蓄につき租税特別措置法第４条の２第１項","郵便局","東京高等裁判所","東京都千代田区霞が関１－１－４",2000013010001]
["東京地方裁判所","東京都千代田区霞が関１－１－４",9000013030001,"自動継続定期預金","（租規第３条の11第１項第４号）",null,null,null,null,"東京地方裁判所","東京都千代田区霞が関１－１－４",9000013030001]
["東京家庭裁判所","東京都千代田区霞が関１－１－２",8000013040001,"積立定期預金","（租規第３条の11第１項第５号）",null,null,null,null,"東京家庭裁判所","東京都千代田区霞が関１－１－２",8000013040001]
["横浜地方裁判所","神奈川県横浜市中区日本大通９",8000013030002,"金銭信託","（租規第３条の11第１項第６号）",null,null,null,null,"横浜地方裁判所","神奈川県横浜市中区日本大通９",8000013030002]
["横浜家庭裁判所","神奈川県横浜市中区寿町１－２",7000013040002,"金銭信託プラス貸付信託","（租規第３条の11第１項第８号）",null,null,null,null,"横浜家庭裁判所","神奈川県横浜市中区寿町１－２",7000013040002]
["さいたま地方裁判所","埼玉県さいたま市浦和区高砂３－１６－４５",7000013030003,"利付金融債","（租規第３条の11第１項第９号）",null,null,null,null,"さいたま地方裁判所","埼玉県さいたま市浦和区高砂３－１６－４５",7000013030003]
["さいたま家庭裁判所","埼玉県さいたま市浦和区高砂３－１６－４５",6000013040003,"利付金融債（利子一括払）","（租規第３条の２第２号）",null,null,null,null,"さいたま家庭裁判所","埼玉県さいたま市浦和区高砂３－１６－４５",6000013040003]
["千葉地方裁判所","千葉県千葉市中央区中央４－１１－２７",6000013030004,"公社債投資信託","（租規第３条の２第４号）",null,null,null,null,"千葉地方裁判所","千葉県千葉市中央区中央４－１１－２７",6000013030004]
["千葉家庭裁判所","千葉県千葉市中央区中央４－１１－２７",5000013040004,"株式投資信託（50）","（租規第３条の２第５号）",null,null,null,null,"千葉家庭裁判所","千葉県千葉市中央区中央４－１１－２７",5000013040004]
["水戸地方裁判所","茨城県水戸市大町１－１－３８",5000013030005,"株式投資信託（30）","（租規第３条の２第６号）",null,null,null,null,"水戸地方裁判所","茨城県水戸市大町１－１－３８",5000013030005]
["宇都宮地方裁判所","栃木県宇都宮市小幡１－１－３８",4000013030006,"国債プラス社債","（租規第３条の２第７号）",null,null,null,null,"水戸家庭裁判所","茨城県水戸市大町１－１－３８",4000013040005]
["宇都宮家庭裁判所","栃木県宇都宮市小幡１－１－３８",3000013040006,"国債","（租規第３条の２第８号）",null,null,null,null,"宇都宮地方裁判所","栃木県宇都宮市小幡１－１－３８",4000013030006]
["前橋地方裁判所","群馬県前橋市大手町３－１－３４",3000013030007,"生命保険","（租規第３条の２第９号）",null,null,null,null,"宇都宮家庭裁判所","栃木県宇都宮市小幡１－１－３８",3000013040006]
["前橋家庭裁判所","群馬県前橋市大手町３－１－３４",2000013040007,"損害保険",null,null,null,null,null,"前橋地方裁判所","群馬県前橋市大手町３－１－３４",3000013030007]
["静岡地方裁判所","静岡県静岡市葵区追手町１０－８０",2000013030008,null,null,null,null,null,null,"前橋家庭裁判所","群馬県前橋市大手町３－１－３４",2000013040007]
["静岡家庭裁判所","静岡県静岡市葵区城内町１－２０",1000013040008,null,null,null,null,null,null,"静岡地方裁判所","静岡県静岡市葵区追手町１０－８０",2000013030008]
["甲府地方裁判所","山梨県甲府市中央１－１０－７",1000013030009,null,null,null,null,null,null,"静岡家庭裁判所","静岡県静岡市葵区城内町１－２０",1000013040008]
["長野地方裁判所","長野県長野市旭町１１０８",8000013030010,null,null,null,null,null,null,"甲府地方裁判所","山梨県甲府市中央１－１０－７",1000013030009]
["新潟地方裁判所","新潟県新潟市中央区学校町通１－１",7000013030011,null,null,null,null,null,null,"長野地方裁判所","長野県長野市旭町１１０８",8000013030010]
["新潟家庭裁判所","新潟県新潟市中央区川岸町１－５４－１",6000013040011,null,null,null,null,null,null,"新潟地方裁判所","新潟県新潟市中央区学校町通１－１",7000013030011]
["大阪高等裁判所","大阪府大阪市北区西天満２－１－１０",1000013010002,null,null,null,null,null,null,"新潟家庭裁判所","新潟県新潟市中央区川岸町１－５４－１",6000013040011]
["大阪地方裁判所","大阪府大阪市北区西天満２－１－１０",6000013030012,null,null,null,null,null,null,"大阪高等裁判所","大阪府大阪市北区西天満２－１－１０",1000013010002]
["大阪家庭裁判所","大阪府大阪市中央区大手前４－１－１３",5000013040012,null,null,null,null,null,null,"大阪地方裁判所","大阪府大阪市北区西天満２－１－１０",6000013030012]
["京都地方裁判所","京都府京都市中京区菊屋町",5000013030013,null,null,null,null,null,null,"大阪家庭裁判所","大阪府大阪市中央区大手前４－１－１３",5000013040012]
["京都家庭裁判所","京都府京都市左京区下鴨宮河町１",4000013040013,null,null,null,null,null,null,"京都地方裁判所","京都府京都市中京区菊屋町",5000013030013]
["神戸地方裁判所","兵庫県神戸市中央区橘通２－２－１",4000013030014,null,null,null,null,null,null,"京都家庭裁判所","京都府京都市左京区下鴨宮河町１",4000013040013]
["神戸家庭裁判所","兵庫県神戸市兵庫区荒田町３－４６－１",3000013040014,null,null,null,null,null,null,"神戸地方裁判所","兵庫県神戸市中央区橘通２－２－１",4000013030014]
["奈良地方裁判所","奈良県奈良市登大路町３５",3000013030015,null,null,null,null,null,null,"神戸家庭裁判所","兵庫県神戸市兵庫区荒田町３－４６－１",3000013040014]
["大津地方裁判所","滋賀県大津市京町３－１－２",2000013030016,null,null,null,null,null,null,"奈良地方裁判所","奈良県奈良市登大路町３５",3000013030015]
["和歌山地方裁判所","和歌山県和歌山市二番丁１",1000013030017,null,null,null,null,null,null,"大津地方裁判所","滋賀県大津市京町３－１－２",2000013030016]
["名古屋高等裁判所","愛知県名古屋市中区三の丸１－４－１",9000013010003,null,null,null,null,null,null,"和歌山地方裁判所","和歌山県和歌山市二番丁１",1000013030017]
["名古屋地方裁判所","愛知県名古屋市中区三の丸１－４－１",9000013030018,null,null,null,null,null,null,"名古屋高等裁判所","愛知県名古屋市中区三の丸１－４－１",9000013010003]
["名古屋家庭裁判所","愛知県名古屋市中区三の丸１－７－１",8000013040018,null,null,null,null,null,null,"名古屋地方裁判所","愛知県名古屋市中区三の丸１－４－１",9000013030018]
["津地方裁判所","三重県津市中央３－１",8000013030019,null,null,null,null,null,null,"名古屋家庭裁判所","愛知県名古屋市中区三の丸１－７－１",8000013040018]
["岐阜地方裁判所","岐阜県岐阜市美江寺町２－４－１",6000013030020,null,null,null,null,null,null,"津地方裁判所","三重県津市中央３－１",8000013030019]
["福井地方裁判所","福井県福井市春山１－１－１",5000013030021,null,null,null,null,null,null,"岐阜地方裁判所","岐阜県岐阜市美江寺町２－４－１",6000013030020]
["金沢地方裁判所","石川県金沢市丸の内７－１",4000013030022,null,null,null,null,null,null,"福井地方裁判所","福井県福井市春山１－１－１",5000013030021]
["富山地方裁判所","富山県富山市西田地方町２－９－１",3000013030023,null,null,null,null,null,null,"金沢地方裁判所","石川県金沢市丸の内７－１",4000013030022]
["広島高等裁判所","広島県広島市中区上八丁堀２－４３",8000013010004,null,null,null,null,null,null,"金沢家庭裁判所","石川県金沢市丸の内７－１",3000013040022]
["広島地方裁判所","広島県広島市中区上八丁堀２－４３",2000013030024,null,null,null,null,null,null,"富山地方裁判所","富山県富山市西田地方町２－９－１",3000013030023]
["広島家庭裁判所","広島県広島市中区上八丁堀１－６",1000013040024,null,null,null,null,null,null,"広島高等裁判所","広島県広島市中区上八丁堀２－４３",8000013010004]
["山口地方裁判所","山口県山口市駅通り１－６－１",1000013030025,null,null,null,null,null,null,"広島地方裁判所","広島県広島市中区上八丁堀２－４３",2000013030024]
["山口家庭裁判所","山口県山口市駅通り１－６－１",9000013040025,null,null,null,null,null,null,"広島家庭裁判所","広島県広島市中区上八丁堀１－６",1000013040024]
["岡山地方裁判所","岡山県岡山市北区南方１－８－４２",9000013030026,null,null,null,null,null,null,"山口地方裁判所","山口県山口市駅通り１－６－１",1000013030025]
["鳥取地方裁判所","鳥取県鳥取市東町２－２２３",8000013030027,null,null,null,null,null,null,"山口家庭裁判所","山口県山口市駅通り１－６－１",9000013040025]
["松江地方裁判所","島根県松江市母衣町６８",7000013030028,null,null,null,null,null,null,"岡山地方裁判所","岡山県岡山市北区南方１－８－４２",9000013030026]
["福岡高等裁判所","福岡県福岡市中央区六本松４－２－４",7000013010005,null,null,null,null,null,null,"岡山家庭裁判所","岡山県岡山市北区南方１－８－４２",8000013040026]
["福岡地方裁判所","福岡県福岡市中央区六本松４－２－４",6000013030029,null,null,null,null,null,null,"鳥取地方裁判所","鳥取県鳥取市東町２－２２３",8000013030027]
["佐賀地方裁判所","佐賀県佐賀市中の小路３－２２",4000013030030,null,null,null,null,null,null,"松江地方裁判所","島根県松江市母衣町６８",7000013030028]
["長崎地方裁判所","長崎県長崎市万才町９－２６",3000013030031,null,null,null,null,null,null,"福岡高等裁判所","福岡県福岡市中央区六本松４－２－４",7000013010005]
["長崎家庭裁判所","長崎県長崎市万才町６－２５",2000013040031,null,null,null,null,null,null,"福岡地方裁判所","福岡県福岡市中央区六本松４－２－４",6000013030029]
["大分地方裁判所","大分県大分市荷揚町７－１５",2000013030032,null,null,null,null,null,null,"福岡家庭裁判所","福岡県福岡市中央区六本松４－２－４",5000013040029]
["熊本地方裁判所","熊本県熊本市中央区京町１－１３－１１",1000013030033,null,null,null,null,null,null,"佐賀地方裁判所","佐賀県佐賀市中の小路３－２２",4000013030030]
["熊本家庭裁判所","熊本県熊本市中央区千葉城町３－３１",9000013040033,null,null,null,null,null,null,"長崎地方裁判所","長崎県長崎市万才町９－２６",3000013030031]
["鹿児島地方裁判所","鹿児島県鹿児島市山下町１３－４７",9000013030034,null,null,null,null,null,null,"長崎家庭裁判所","長崎県長崎市万才町６－２５",2000013040031]
["宮崎地方裁判所","宮崎県宮崎市旭２－３－１３",8000013030035,null,null,null,null,null,null,"大分地方裁判所","大分県大分市荷揚町７－１５",2000013030032]
["那覇地方裁判所","沖縄県那覇市樋川１－１４－１",7000013030036,null,null,null,null,null,null,"熊本地方裁判所","熊本県熊本市中央区京町１－１３－１１",1000013030033]
["那覇家庭裁判所","沖縄県那覇市樋川１－１４－１０",6000013040036,null,null,null,null,null,null,"熊本家庭裁判所","熊本県熊本市中央区千葉城町３－３１",9000013040033]
["仙台高等裁判所","宮城県仙台市青葉区片平１－６－１",6000013010006,null,null,null,null,null,null,"鹿児島地方裁判所","鹿児島県鹿児島市山下町１３－４７",9000013030034]
["仙台地方裁判所","宮城県仙台市青葉区片平１－６－１",6000013030037,null,null,null,null,null,null,"宮崎地方裁判所","宮崎県宮崎市旭２－３－１３",8000013030035]
["仙台家庭裁判所","宮城県仙台市青葉区片平１－６－１",5000013040037,null,null,null,null,null,null,"那覇地方裁判所","沖縄県那覇市樋川１－１４－１",7000013030036]
["福島地方裁判所","福島県福島市花園町５－３８",5000013030038,null,null,null,null,null,null,"那覇家庭裁判所","沖縄県那覇市樋川１－１４－１０",6000013040036]
["福島家庭裁判所","福島県福島市花園町５－３８",4000013040038,null,null,null,null,null,null,"仙台高等裁判所","宮城県仙台市青葉区片平１－６－１",6000013010006]
["山形地方裁判所","山形県山形市旅篭町２－４－２２",4000013030039,null,null,null,null,null,null,"仙台地方裁判所","宮城県仙台市青葉区片平１－６－１",6000013030037]
["盛岡地方裁判所","岩手県盛岡市内丸９－１",2000013030040,null,null,null,null,null,null,"仙台家庭裁判所","宮城県仙台市青葉区片平１－６－１",5000013040037]
["秋田地方裁判所","秋田県秋田市山王７－１－１",1000013030041,null,null,null,null,null,null,"福島地方裁判所","福島県福島市花園町５－３８",5000013030038]
["青森地方裁判所","青森県青森市長島１－３－２６",9000013030042,null,null,null,null,null,null,"福島家庭裁判所","福島県福島市花園町５－３８",4000013040038]
["札幌高等裁判所","北海道札幌市中央区大通西１１",5000013010007,null,null,null,null,null,null,"山形地方裁判所","山形県山形市旅篭町２－４－２２",4000013030039]
["札幌地方裁判所","北海道札幌市中央区大通西１１",8000013030043,null,null,null,null,null,null,"盛岡地方裁判所","岩手県盛岡市内丸９－１",2000013030040]
["札幌家庭裁判所","北海道札幌市中央区大通西１２",7000013040043,null,null,null,null,null,null,"秋田地方裁判所","秋田県秋田市山王７－１－１",1000013030041]
["函館地方裁判所","北海道函館市上新川町１－８",7000013030044,null,null,null,null,null,null,"青森地方裁判所","青森県青森市長島１－３－２６",9000013030042]
["旭川地方裁判所","北海道旭川市花咲町４",6000013030045,null,null,null,null,null,null,"札幌高等裁判所","北海道札幌市中央区大通西１１",5000013010007]
["釧路地方裁判所","北海道釧路市柏木町４－７",5000013030046,null,null,null,null,null,null,"札幌地方裁判所","北海道札幌市中央区大通西１１",8000013030043]
["高松高等裁判所","香川県高松市丸の内１－３６",4000013010008,null,null,null,null,null,null,"札幌家庭裁判所","北海道札幌市中央区大通西１２",7000013040043]
["高松地方裁判所","香川県高松市丸の内１－３６",4000013030047,null,null,null,null,null,null,"函館地方裁判所","北海道函館市上新川町１－８",7000013030044]
["高松家庭裁判所","香川県高松市丸の内２－２７",3000013040047,null,null,null,null,null,null,"旭川地方裁判所","北海道旭川市花咲町４",6000013030045]
["徳島地方裁判所","徳島県徳島市徳島町１－５－１",3000013030048,null,null,null,null,null,null,"釧路地方裁判所","北海道釧路市柏木町４－７",5000013030046]
["高知地方裁判所","高知県高知市丸ノ内１－３－５",2000013030049,null,null,null,null,null,null,"高松高等裁判所","香川県高松市丸の内１－３６",4000013010008]
["松山地方裁判所","愛媛県松山市一番町３－３－８",9000013030050,null,null,null,null,null,null,"高松地方裁判所","香川県高松市丸の内１－３６",4000013030047]
["松山家庭裁判所","愛媛県松山市南堀端町２－１",8000013040050,null,null,null,null,null,null,"高松家庭裁判所","香川県高松市丸の内２－２７",3000013040047]
[null,null,null,null,null,null,null,null,null,"徳島地方裁判所","徳島県徳島市徳島町１－５－１",3000013030048]
[null,null,null,null,null,null,null,null,null,"高知地方裁判所","高知県高知市丸ノ内１－３－５",2000013030049]
[null,null,null,null,null,null,null,null,null,"松山地方裁判所","愛媛県松山市一番町３－３－８",9000013030050]
[null,null,null,null,null,null,null,null,null,"松山家庭裁判所","愛媛県松山市南堀端町２－１",8000013040050]